BEGIN:VCALENDAR
VERSION:2.0
PRODID:-//Average Joe’s Cornhole Inc - ECPv6.15.14//NONSGML v1.0//EN
CALSCALE:GREGORIAN
METHOD:PUBLISH
X-WR-CALNAME:Average Joe’s Cornhole Inc
X-ORIGINAL-URL:https://averagejoescornhole.com
X-WR-CALDESC:Events for Average Joe’s Cornhole Inc
REFRESH-INTERVAL;VALUE=DURATION:PT1H
X-Robots-Tag:noindex
X-PUBLISHED-TTL:PT1H
BEGIN:VTIMEZONE
TZID:America/New_York
BEGIN:DAYLIGHT
TZOFFSETFROM:-0500
TZOFFSETTO:-0400
TZNAME:EDT
DTSTART:20250309T070000
END:DAYLIGHT
BEGIN:STANDARD
TZOFFSETFROM:-0400
TZOFFSETTO:-0500
TZNAME:EST
DTSTART:20251102T060000
END:STANDARD
BEGIN:DAYLIGHT
TZOFFSETFROM:-0500
TZOFFSETTO:-0400
TZNAME:EDT
DTSTART:20260308T070000
END:DAYLIGHT
BEGIN:STANDARD
TZOFFSETFROM:-0400
TZOFFSETTO:-0500
TZNAME:EST
DTSTART:20261101T060000
END:STANDARD
BEGIN:DAYLIGHT
TZOFFSETFROM:-0500
TZOFFSETTO:-0400
TZNAME:EDT
DTSTART:20270314T070000
END:DAYLIGHT
BEGIN:STANDARD
TZOFFSETFROM:-0400
TZOFFSETTO:-0500
TZNAME:EST
DTSTART:20271107T060000
END:STANDARD
END:VTIMEZONE
BEGIN:VEVENT
DTSTART;TZID=America/New_York:20260320T100000
DTEND;TZID=America/New_York:20260320T120000
DTSTAMP:20260420T035208
CREATED:20260308T010356Z
LAST-MODIFIED:20260308T010845Z
UID:10000698-1774000800-1774008000@averagejoescornhole.com
SUMMARY:ACO women's singles\, Pickleball Heaven Medford\, NY 3/21
DESCRIPTION:ACO Regional Women’s singles division. \nDoors open at 9:00am. \nMembership is needed for all Regional and Major events. \nFree Memberships available this season. \nACO Approved bags are required for play. \nPrice: $15 \nNO OUTSIDE DRINKS.
URL:https://averagejoescornhole.com/event/aco-womens-singles-pickleball-heaven-medford-ny-3-21/
LOCATION:Pickleball Heaven\, 645 National Blvd\, Medford\, New York\, 11763
CATEGORIES:Regional
ORGANIZER;CN="Average Joe's Cornhole":MAILTO:eric@averagejoescornhole.com
END:VEVENT
BEGIN:VEVENT
DTSTART;TZID=America/New_York:20260320T100000
DTEND;TZID=America/New_York:20260320T120000
DTSTAMP:20260420T035208
CREATED:20260308T011117Z
LAST-MODIFIED:20260308T011117Z
UID:10000700-1774000800-1774008000@averagejoescornhole.com
SUMMARY:ACO Juniors\, Pickleball Heaven\, Medford\, NY 3.21
DESCRIPTION:ACO Regional Juniors division singles. \nFREE for Juniors. \nDoors open at 6:00. \nACO membership needed for the Juniors. \nFree Memberships available this season. \nACO Approved bags are required for play. \nNO OUTSIDE DRINKS.
URL:https://averagejoescornhole.com/event/aco-juniors-pickleball-heaven-medford-ny-3-21/
LOCATION:Pickleball Heaven\, 645 National Blvd\, Medford\, New York\, 11763
CATEGORIES:Regional
ORGANIZER;CN="Average Joe's Cornhole":MAILTO:eric@averagejoescornhole.com
END:VEVENT
BEGIN:VEVENT
DTSTART;TZID=America/New_York:20260320T100000
DTEND;TZID=America/New_York:20260320T163000
DTSTAMP:20260420T035208
CREATED:20260308T005404Z
LAST-MODIFIED:20260308T005404Z
UID:10000696-1774000800-1774024200@averagejoescornhole.com
SUMMARY:ESPN Rickleball Cornhole Event
DESCRIPTION:ESPN’s DiPietro and Rothenburg will be doing their morning show live from Pickleball heaven starting at 6am\, board will be available to social play from 6am – 10am (separate sign up) then well play a Round Robin into a double elimination tournament\, while they play the RICKLEBALL MADNESS. ESPN and the show will be around throughout the day and watching March Madness as well on the Giant Screen. Come down for a day of fun. \n  \nRegister on Scoreholio \nhttps://share.scoreholio.com/D89nvf9h20b
URL:https://averagejoescornhole.com/event/espn-rickleball-cornhole-event/
LOCATION:Pickleball Heaven\, 645 National Blvd\, Medford\, New York\, 11763
ORGANIZER;CN="Average Joe's Cornhole":MAILTO:eric@averagejoescornhole.com
END:VEVENT
END:VCALENDAR