BEGIN:VCALENDAR
VERSION:2.0
PRODID:-//Average Joe’s Cornhole Inc - ECPv6.15.14//NONSGML v1.0//EN
CALSCALE:GREGORIAN
METHOD:PUBLISH
X-WR-CALNAME:Average Joe’s Cornhole Inc
X-ORIGINAL-URL:https://averagejoescornhole.com
X-WR-CALDESC:Events for Average Joe’s Cornhole Inc
REFRESH-INTERVAL;VALUE=DURATION:PT1H
X-Robots-Tag:noindex
X-PUBLISHED-TTL:PT1H
BEGIN:VTIMEZONE
TZID:America/New_York
BEGIN:DAYLIGHT
TZOFFSETFROM:-0500
TZOFFSETTO:-0400
TZNAME:EDT
DTSTART:20250309T070000
END:DAYLIGHT
BEGIN:STANDARD
TZOFFSETFROM:-0400
TZOFFSETTO:-0500
TZNAME:EST
DTSTART:20251102T060000
END:STANDARD
BEGIN:DAYLIGHT
TZOFFSETFROM:-0500
TZOFFSETTO:-0400
TZNAME:EDT
DTSTART:20260308T070000
END:DAYLIGHT
BEGIN:STANDARD
TZOFFSETFROM:-0400
TZOFFSETTO:-0500
TZNAME:EST
DTSTART:20261101T060000
END:STANDARD
BEGIN:DAYLIGHT
TZOFFSETFROM:-0500
TZOFFSETTO:-0400
TZNAME:EDT
DTSTART:20270314T070000
END:DAYLIGHT
BEGIN:STANDARD
TZOFFSETFROM:-0400
TZOFFSETTO:-0500
TZNAME:EST
DTSTART:20271107T060000
END:STANDARD
END:VTIMEZONE
BEGIN:VEVENT
DTSTART;TZID=America/New_York:20260321T120000
DTEND;TZID=America/New_York:20260321T153000
DTSTAMP:20260420T035320
CREATED:20260308T005824Z
LAST-MODIFIED:20260308T005824Z
UID:10000697-1774094400-1774107000@averagejoescornhole.com
SUMMARY:ACO Blind Draw Doubles Pickleball Heaven 3/21
DESCRIPTION:ACO Blind Draw Regional. \nDoors open at 9:00am \nACO membership needed for the Blind Draw. \nMembership is needed for all Regional and Major events. \nFree Memberships are available this season. \nACO Approved bags are required for play. \nNO OUTSIDE DRINKS. \n$25 per player
URL:https://averagejoescornhole.com/event/aco-blind-draw-doubles-pickleball-heaven-3-21/
LOCATION:Pickleball Heaven\, 645 National Blvd\, Medford\, New York\, 11763
CATEGORIES:Regional
ORGANIZER;CN="Average Joe's Cornhole":MAILTO:eric@averagejoescornhole.com
END:VEVENT
END:VCALENDAR