BEGIN:VCALENDAR
VERSION:2.0
PRODID:-//Average Joe’s Cornhole Inc - ECPv6.15.14//NONSGML v1.0//EN
CALSCALE:GREGORIAN
METHOD:PUBLISH
X-WR-CALNAME:Average Joe’s Cornhole Inc
X-ORIGINAL-URL:https://averagejoescornhole.com
X-WR-CALDESC:Events for Average Joe’s Cornhole Inc
REFRESH-INTERVAL;VALUE=DURATION:PT1H
X-Robots-Tag:noindex
X-PUBLISHED-TTL:PT1H
BEGIN:VTIMEZONE
TZID:America/New_York
BEGIN:DAYLIGHT
TZOFFSETFROM:-0500
TZOFFSETTO:-0400
TZNAME:EDT
DTSTART:20290311T070000
END:DAYLIGHT
BEGIN:STANDARD
TZOFFSETFROM:-0400
TZOFFSETTO:-0500
TZNAME:EST
DTSTART:20291104T060000
END:STANDARD
BEGIN:DAYLIGHT
TZOFFSETFROM:-0500
TZOFFSETTO:-0400
TZNAME:EDT
DTSTART:20300310T070000
END:DAYLIGHT
BEGIN:STANDARD
TZOFFSETFROM:-0400
TZOFFSETTO:-0500
TZNAME:EST
DTSTART:20301103T060000
END:STANDARD
BEGIN:DAYLIGHT
TZOFFSETFROM:-0500
TZOFFSETTO:-0400
TZNAME:EDT
DTSTART:20310309T070000
END:DAYLIGHT
BEGIN:STANDARD
TZOFFSETFROM:-0400
TZOFFSETTO:-0500
TZNAME:EST
DTSTART:20311102T060000
END:STANDARD
END:VTIMEZONE
BEGIN:VEVENT
DTSTART;TZID=America/New_York:20300611T190000
DTEND;TZID=America/New_York:20300611T230000
DTSTAMP:20260422T175213
CREATED:20251016T152253Z
LAST-MODIFIED:20251016T155402Z
UID:10000527-1907434800-1907449200@averagejoescornhole.com
SUMMARY:Bull Smith's open switch
DESCRIPTION:Come on down to Bull Smith’s Tavern for a fun night on 3 outdoor courts weather permitting. 3 or 4 game switch format\, into a double elimination tournament. With your entry you will receive a free drink. At least 70% payout to the winners. Register early as there is limited space.
URL:https://averagejoescornhole.com/event/bull-smiths-open-switch-10-14/2030-06-11/
LOCATION:Bull Smiths Tavern\, 155 West Main Street\, Smithtown\, NY\, 11787\, United States
CATEGORIES:Weekly Tournaments
ORGANIZER;CN="Average Joe's Cornhole":MAILTO:eric@averagejoescornhole.com
END:VEVENT
BEGIN:VEVENT
DTSTART;TZID=America/New_York:20300618T190000
DTEND;TZID=America/New_York:20300618T230000
DTSTAMP:20260422T175213
CREATED:20251016T152253Z
LAST-MODIFIED:20251016T155402Z
UID:10000528-1908039600-1908054000@averagejoescornhole.com
SUMMARY:Bull Smith's open switch
DESCRIPTION:Come on down to Bull Smith’s Tavern for a fun night on 3 outdoor courts weather permitting. 3 or 4 game switch format\, into a double elimination tournament. With your entry you will receive a free drink. At least 70% payout to the winners. Register early as there is limited space.
URL:https://averagejoescornhole.com/event/bull-smiths-open-switch-10-14/2030-06-18/
LOCATION:Bull Smiths Tavern\, 155 West Main Street\, Smithtown\, NY\, 11787\, United States
CATEGORIES:Weekly Tournaments
ORGANIZER;CN="Average Joe's Cornhole":MAILTO:eric@averagejoescornhole.com
END:VEVENT
BEGIN:VEVENT
DTSTART;TZID=America/New_York:20300625T190000
DTEND;TZID=America/New_York:20300625T230000
DTSTAMP:20260422T175213
CREATED:20251016T152253Z
LAST-MODIFIED:20251016T155402Z
UID:10000529-1908644400-1908658800@averagejoescornhole.com
SUMMARY:Bull Smith's open switch
DESCRIPTION:Come on down to Bull Smith’s Tavern for a fun night on 3 outdoor courts weather permitting. 3 or 4 game switch format\, into a double elimination tournament. With your entry you will receive a free drink. At least 70% payout to the winners. Register early as there is limited space.
URL:https://averagejoescornhole.com/event/bull-smiths-open-switch-10-14/2030-06-25/
LOCATION:Bull Smiths Tavern\, 155 West Main Street\, Smithtown\, NY\, 11787\, United States
CATEGORIES:Weekly Tournaments
ORGANIZER;CN="Average Joe's Cornhole":MAILTO:eric@averagejoescornhole.com
END:VEVENT
BEGIN:VEVENT
DTSTART;TZID=America/New_York:20300702T190000
DTEND;TZID=America/New_York:20300702T230000
DTSTAMP:20260422T175213
CREATED:20251016T152253Z
LAST-MODIFIED:20251016T155402Z
UID:10000530-1909249200-1909263600@averagejoescornhole.com
SUMMARY:Bull Smith's open switch
DESCRIPTION:Come on down to Bull Smith’s Tavern for a fun night on 3 outdoor courts weather permitting. 3 or 4 game switch format\, into a double elimination tournament. With your entry you will receive a free drink. At least 70% payout to the winners. Register early as there is limited space.
URL:https://averagejoescornhole.com/event/bull-smiths-open-switch-10-14/2030-07-02/
LOCATION:Bull Smiths Tavern\, 155 West Main Street\, Smithtown\, NY\, 11787\, United States
CATEGORIES:Weekly Tournaments
ORGANIZER;CN="Average Joe's Cornhole":MAILTO:eric@averagejoescornhole.com
END:VEVENT
BEGIN:VEVENT
DTSTART;TZID=America/New_York:20300709T190000
DTEND;TZID=America/New_York:20300709T230000
DTSTAMP:20260422T175213
CREATED:20251016T152253Z
LAST-MODIFIED:20251016T155402Z
UID:10000531-1909854000-1909868400@averagejoescornhole.com
SUMMARY:Bull Smith's open switch
DESCRIPTION:Come on down to Bull Smith’s Tavern for a fun night on 3 outdoor courts weather permitting. 3 or 4 game switch format\, into a double elimination tournament. With your entry you will receive a free drink. At least 70% payout to the winners. Register early as there is limited space.
URL:https://averagejoescornhole.com/event/bull-smiths-open-switch-10-14/2030-07-09/
LOCATION:Bull Smiths Tavern\, 155 West Main Street\, Smithtown\, NY\, 11787\, United States
CATEGORIES:Weekly Tournaments
ORGANIZER;CN="Average Joe's Cornhole":MAILTO:eric@averagejoescornhole.com
END:VEVENT
BEGIN:VEVENT
DTSTART;TZID=America/New_York:20300716T190000
DTEND;TZID=America/New_York:20300716T230000
DTSTAMP:20260422T175213
CREATED:20251016T152253Z
LAST-MODIFIED:20251016T155402Z
UID:10000532-1910458800-1910473200@averagejoescornhole.com
SUMMARY:Bull Smith's open switch
DESCRIPTION:Come on down to Bull Smith’s Tavern for a fun night on 3 outdoor courts weather permitting. 3 or 4 game switch format\, into a double elimination tournament. With your entry you will receive a free drink. At least 70% payout to the winners. Register early as there is limited space.
URL:https://averagejoescornhole.com/event/bull-smiths-open-switch-10-14/2030-07-16/
LOCATION:Bull Smiths Tavern\, 155 West Main Street\, Smithtown\, NY\, 11787\, United States
CATEGORIES:Weekly Tournaments
ORGANIZER;CN="Average Joe's Cornhole":MAILTO:eric@averagejoescornhole.com
END:VEVENT
BEGIN:VEVENT
DTSTART;TZID=America/New_York:20300723T190000
DTEND;TZID=America/New_York:20300723T230000
DTSTAMP:20260422T175213
CREATED:20251016T152253Z
LAST-MODIFIED:20251016T155402Z
UID:10000533-1911063600-1911078000@averagejoescornhole.com
SUMMARY:Bull Smith's open switch
DESCRIPTION:Come on down to Bull Smith’s Tavern for a fun night on 3 outdoor courts weather permitting. 3 or 4 game switch format\, into a double elimination tournament. With your entry you will receive a free drink. At least 70% payout to the winners. Register early as there is limited space.
URL:https://averagejoescornhole.com/event/bull-smiths-open-switch-10-14/2030-07-23/
LOCATION:Bull Smiths Tavern\, 155 West Main Street\, Smithtown\, NY\, 11787\, United States
CATEGORIES:Weekly Tournaments
ORGANIZER;CN="Average Joe's Cornhole":MAILTO:eric@averagejoescornhole.com
END:VEVENT
BEGIN:VEVENT
DTSTART;TZID=America/New_York:20300730T190000
DTEND;TZID=America/New_York:20300730T230000
DTSTAMP:20260422T175213
CREATED:20251016T152253Z
LAST-MODIFIED:20251016T155402Z
UID:10000534-1911668400-1911682800@averagejoescornhole.com
SUMMARY:Bull Smith's open switch
DESCRIPTION:Come on down to Bull Smith’s Tavern for a fun night on 3 outdoor courts weather permitting. 3 or 4 game switch format\, into a double elimination tournament. With your entry you will receive a free drink. At least 70% payout to the winners. Register early as there is limited space.
URL:https://averagejoescornhole.com/event/bull-smiths-open-switch-10-14/2030-07-30/
LOCATION:Bull Smiths Tavern\, 155 West Main Street\, Smithtown\, NY\, 11787\, United States
CATEGORIES:Weekly Tournaments
ORGANIZER;CN="Average Joe's Cornhole":MAILTO:eric@averagejoescornhole.com
END:VEVENT
BEGIN:VEVENT
DTSTART;TZID=America/New_York:20300806T190000
DTEND;TZID=America/New_York:20300806T230000
DTSTAMP:20260422T175213
CREATED:20251016T152253Z
LAST-MODIFIED:20251016T155402Z
UID:10000535-1912273200-1912287600@averagejoescornhole.com
SUMMARY:Bull Smith's open switch
DESCRIPTION:Come on down to Bull Smith’s Tavern for a fun night on 3 outdoor courts weather permitting. 3 or 4 game switch format\, into a double elimination tournament. With your entry you will receive a free drink. At least 70% payout to the winners. Register early as there is limited space.
URL:https://averagejoescornhole.com/event/bull-smiths-open-switch-10-14/2030-08-06/
LOCATION:Bull Smiths Tavern\, 155 West Main Street\, Smithtown\, NY\, 11787\, United States
CATEGORIES:Weekly Tournaments
ORGANIZER;CN="Average Joe's Cornhole":MAILTO:eric@averagejoescornhole.com
END:VEVENT
BEGIN:VEVENT
DTSTART;TZID=America/New_York:20300813T190000
DTEND;TZID=America/New_York:20300813T230000
DTSTAMP:20260422T175213
CREATED:20251016T152253Z
LAST-MODIFIED:20251016T155402Z
UID:10000536-1912878000-1912892400@averagejoescornhole.com
SUMMARY:Bull Smith's open switch
DESCRIPTION:Come on down to Bull Smith’s Tavern for a fun night on 3 outdoor courts weather permitting. 3 or 4 game switch format\, into a double elimination tournament. With your entry you will receive a free drink. At least 70% payout to the winners. Register early as there is limited space.
URL:https://averagejoescornhole.com/event/bull-smiths-open-switch-10-14/2030-08-13/
LOCATION:Bull Smiths Tavern\, 155 West Main Street\, Smithtown\, NY\, 11787\, United States
CATEGORIES:Weekly Tournaments
ORGANIZER;CN="Average Joe's Cornhole":MAILTO:eric@averagejoescornhole.com
END:VEVENT
BEGIN:VEVENT
DTSTART;TZID=America/New_York:20300820T190000
DTEND;TZID=America/New_York:20300820T230000
DTSTAMP:20260422T175213
CREATED:20251016T152253Z
LAST-MODIFIED:20251016T155402Z
UID:10000537-1913482800-1913497200@averagejoescornhole.com
SUMMARY:Bull Smith's open switch
DESCRIPTION:Come on down to Bull Smith’s Tavern for a fun night on 3 outdoor courts weather permitting. 3 or 4 game switch format\, into a double elimination tournament. With your entry you will receive a free drink. At least 70% payout to the winners. Register early as there is limited space.
URL:https://averagejoescornhole.com/event/bull-smiths-open-switch-10-14/2030-08-20/
LOCATION:Bull Smiths Tavern\, 155 West Main Street\, Smithtown\, NY\, 11787\, United States
CATEGORIES:Weekly Tournaments
ORGANIZER;CN="Average Joe's Cornhole":MAILTO:eric@averagejoescornhole.com
END:VEVENT
BEGIN:VEVENT
DTSTART;TZID=America/New_York:20300827T190000
DTEND;TZID=America/New_York:20300827T230000
DTSTAMP:20260422T175213
CREATED:20251016T152253Z
LAST-MODIFIED:20251016T155402Z
UID:10000538-1914087600-1914102000@averagejoescornhole.com
SUMMARY:Bull Smith's open switch
DESCRIPTION:Come on down to Bull Smith’s Tavern for a fun night on 3 outdoor courts weather permitting. 3 or 4 game switch format\, into a double elimination tournament. With your entry you will receive a free drink. At least 70% payout to the winners. Register early as there is limited space.
URL:https://averagejoescornhole.com/event/bull-smiths-open-switch-10-14/2030-08-27/
LOCATION:Bull Smiths Tavern\, 155 West Main Street\, Smithtown\, NY\, 11787\, United States
CATEGORIES:Weekly Tournaments
ORGANIZER;CN="Average Joe's Cornhole":MAILTO:eric@averagejoescornhole.com
END:VEVENT
BEGIN:VEVENT
DTSTART;TZID=America/New_York:20300903T190000
DTEND;TZID=America/New_York:20300903T230000
DTSTAMP:20260422T175213
CREATED:20251016T152253Z
LAST-MODIFIED:20251016T155402Z
UID:10000539-1914692400-1914706800@averagejoescornhole.com
SUMMARY:Bull Smith's open switch
DESCRIPTION:Come on down to Bull Smith’s Tavern for a fun night on 3 outdoor courts weather permitting. 3 or 4 game switch format\, into a double elimination tournament. With your entry you will receive a free drink. At least 70% payout to the winners. Register early as there is limited space.
URL:https://averagejoescornhole.com/event/bull-smiths-open-switch-10-14/2030-09-03/
LOCATION:Bull Smiths Tavern\, 155 West Main Street\, Smithtown\, NY\, 11787\, United States
CATEGORIES:Weekly Tournaments
ORGANIZER;CN="Average Joe's Cornhole":MAILTO:eric@averagejoescornhole.com
END:VEVENT
BEGIN:VEVENT
DTSTART;TZID=America/New_York:20300910T190000
DTEND;TZID=America/New_York:20300910T230000
DTSTAMP:20260422T175213
CREATED:20251016T152253Z
LAST-MODIFIED:20251016T155402Z
UID:10000540-1915297200-1915311600@averagejoescornhole.com
SUMMARY:Bull Smith's open switch
DESCRIPTION:Come on down to Bull Smith’s Tavern for a fun night on 3 outdoor courts weather permitting. 3 or 4 game switch format\, into a double elimination tournament. With your entry you will receive a free drink. At least 70% payout to the winners. Register early as there is limited space.
URL:https://averagejoescornhole.com/event/bull-smiths-open-switch-10-14/2030-09-10/
LOCATION:Bull Smiths Tavern\, 155 West Main Street\, Smithtown\, NY\, 11787\, United States
CATEGORIES:Weekly Tournaments
ORGANIZER;CN="Average Joe's Cornhole":MAILTO:eric@averagejoescornhole.com
END:VEVENT
BEGIN:VEVENT
DTSTART;TZID=America/New_York:20300917T190000
DTEND;TZID=America/New_York:20300917T230000
DTSTAMP:20260422T175213
CREATED:20251016T152253Z
LAST-MODIFIED:20251016T155402Z
UID:10000541-1915902000-1915916400@averagejoescornhole.com
SUMMARY:Bull Smith's open switch
DESCRIPTION:Come on down to Bull Smith’s Tavern for a fun night on 3 outdoor courts weather permitting. 3 or 4 game switch format\, into a double elimination tournament. With your entry you will receive a free drink. At least 70% payout to the winners. Register early as there is limited space.
URL:https://averagejoescornhole.com/event/bull-smiths-open-switch-10-14/2030-09-17/
LOCATION:Bull Smiths Tavern\, 155 West Main Street\, Smithtown\, NY\, 11787\, United States
CATEGORIES:Weekly Tournaments
ORGANIZER;CN="Average Joe's Cornhole":MAILTO:eric@averagejoescornhole.com
END:VEVENT
BEGIN:VEVENT
DTSTART;TZID=America/New_York:20300924T190000
DTEND;TZID=America/New_York:20300924T230000
DTSTAMP:20260422T175213
CREATED:20251016T152253Z
LAST-MODIFIED:20251016T155402Z
UID:10000542-1916506800-1916521200@averagejoescornhole.com
SUMMARY:Bull Smith's open switch
DESCRIPTION:Come on down to Bull Smith’s Tavern for a fun night on 3 outdoor courts weather permitting. 3 or 4 game switch format\, into a double elimination tournament. With your entry you will receive a free drink. At least 70% payout to the winners. Register early as there is limited space.
URL:https://averagejoescornhole.com/event/bull-smiths-open-switch-10-14/2030-09-24/
LOCATION:Bull Smiths Tavern\, 155 West Main Street\, Smithtown\, NY\, 11787\, United States
CATEGORIES:Weekly Tournaments
ORGANIZER;CN="Average Joe's Cornhole":MAILTO:eric@averagejoescornhole.com
END:VEVENT
BEGIN:VEVENT
DTSTART;TZID=America/New_York:20301001T190000
DTEND;TZID=America/New_York:20301001T230000
DTSTAMP:20260422T175213
CREATED:20251016T152253Z
LAST-MODIFIED:20251016T155402Z
UID:10000543-1917111600-1917126000@averagejoescornhole.com
SUMMARY:Bull Smith's open switch
DESCRIPTION:Come on down to Bull Smith’s Tavern for a fun night on 3 outdoor courts weather permitting. 3 or 4 game switch format\, into a double elimination tournament. With your entry you will receive a free drink. At least 70% payout to the winners. Register early as there is limited space.
URL:https://averagejoescornhole.com/event/bull-smiths-open-switch-10-14/2030-10-01/
LOCATION:Bull Smiths Tavern\, 155 West Main Street\, Smithtown\, NY\, 11787\, United States
CATEGORIES:Weekly Tournaments
ORGANIZER;CN="Average Joe's Cornhole":MAILTO:eric@averagejoescornhole.com
END:VEVENT
BEGIN:VEVENT
DTSTART;TZID=America/New_York:20301008T190000
DTEND;TZID=America/New_York:20301008T230000
DTSTAMP:20260422T175213
CREATED:20251016T152253Z
LAST-MODIFIED:20251016T155402Z
UID:10000544-1917716400-1917730800@averagejoescornhole.com
SUMMARY:Bull Smith's open switch
DESCRIPTION:Come on down to Bull Smith’s Tavern for a fun night on 3 outdoor courts weather permitting. 3 or 4 game switch format\, into a double elimination tournament. With your entry you will receive a free drink. At least 70% payout to the winners. Register early as there is limited space.
URL:https://averagejoescornhole.com/event/bull-smiths-open-switch-10-14/2030-10-08/
LOCATION:Bull Smiths Tavern\, 155 West Main Street\, Smithtown\, NY\, 11787\, United States
CATEGORIES:Weekly Tournaments
ORGANIZER;CN="Average Joe's Cornhole":MAILTO:eric@averagejoescornhole.com
END:VEVENT
BEGIN:VEVENT
DTSTART;TZID=America/New_York:20301015T190000
DTEND;TZID=America/New_York:20301015T230000
DTSTAMP:20260422T175213
CREATED:20251016T152253Z
LAST-MODIFIED:20251016T155402Z
UID:10000545-1918321200-1918335600@averagejoescornhole.com
SUMMARY:Bull Smith's open switch
DESCRIPTION:Come on down to Bull Smith’s Tavern for a fun night on 3 outdoor courts weather permitting. 3 or 4 game switch format\, into a double elimination tournament. With your entry you will receive a free drink. At least 70% payout to the winners. Register early as there is limited space.
URL:https://averagejoescornhole.com/event/bull-smiths-open-switch-10-14/2030-10-15/
LOCATION:Bull Smiths Tavern\, 155 West Main Street\, Smithtown\, NY\, 11787\, United States
CATEGORIES:Weekly Tournaments
ORGANIZER;CN="Average Joe's Cornhole":MAILTO:eric@averagejoescornhole.com
END:VEVENT
END:VCALENDAR