BEGIN:VCALENDAR
VERSION:2.0
PRODID:-//Average Joe’s Cornhole Inc - ECPv6.15.14//NONSGML v1.0//EN
CALSCALE:GREGORIAN
METHOD:PUBLISH
X-ORIGINAL-URL:https://averagejoescornhole.com
X-WR-CALDESC:Events for Average Joe’s Cornhole Inc
REFRESH-INTERVAL;VALUE=DURATION:PT1H
X-Robots-Tag:noindex
X-PUBLISHED-TTL:PT1H
BEGIN:VTIMEZONE
TZID:America/New_York
BEGIN:DAYLIGHT
TZOFFSETFROM:-0500
TZOFFSETTO:-0400
TZNAME:EDT
DTSTART:20260308T070000
END:DAYLIGHT
BEGIN:STANDARD
TZOFFSETFROM:-0400
TZOFFSETTO:-0500
TZNAME:EST
DTSTART:20261101T060000
END:STANDARD
BEGIN:DAYLIGHT
TZOFFSETFROM:-0500
TZOFFSETTO:-0400
TZNAME:EDT
DTSTART:20270314T070000
END:DAYLIGHT
BEGIN:STANDARD
TZOFFSETFROM:-0400
TZOFFSETTO:-0500
TZNAME:EST
DTSTART:20271107T060000
END:STANDARD
BEGIN:DAYLIGHT
TZOFFSETFROM:-0500
TZOFFSETTO:-0400
TZNAME:EDT
DTSTART:20280312T070000
END:DAYLIGHT
BEGIN:STANDARD
TZOFFSETFROM:-0400
TZOFFSETTO:-0500
TZNAME:EST
DTSTART:20281105T060000
END:STANDARD
END:VTIMEZONE
BEGIN:VEVENT
DTSTART;TZID=America/New_York:20270601T190000
DTEND;TZID=America/New_York:20270601T230000
DTSTAMP:20260420T224242
CREATED:20251016T152253Z
LAST-MODIFIED:20251016T155402Z
UID:10000369-1811876400-1811890800@averagejoescornhole.com
SUMMARY:Bull Smith's open switch
DESCRIPTION:Come on down to Bull Smith’s Tavern for a fun night on 3 outdoor courts weather permitting. 3 or 4 game switch format\, into a double elimination tournament. With your entry you will receive a free drink. At least 70% payout to the winners. Register early as there is limited space.
URL:https://averagejoescornhole.com/event/bull-smiths-open-switch-10-14/2027-06-01/
LOCATION:Bull Smiths Tavern\, 155 West Main Street\, Smithtown\, NY\, 11787\, United States
CATEGORIES:Weekly Tournaments
ORGANIZER;CN="Average Joe's Cornhole":MAILTO:eric@averagejoescornhole.com
END:VEVENT
BEGIN:VEVENT
DTSTART;TZID=America/New_York:20270608T190000
DTEND;TZID=America/New_York:20270608T230000
DTSTAMP:20260420T224242
CREATED:20251016T152253Z
LAST-MODIFIED:20251016T155402Z
UID:10000370-1812481200-1812495600@averagejoescornhole.com
SUMMARY:Bull Smith's open switch
DESCRIPTION:Come on down to Bull Smith’s Tavern for a fun night on 3 outdoor courts weather permitting. 3 or 4 game switch format\, into a double elimination tournament. With your entry you will receive a free drink. At least 70% payout to the winners. Register early as there is limited space.
URL:https://averagejoescornhole.com/event/bull-smiths-open-switch-10-14/2027-06-08/
LOCATION:Bull Smiths Tavern\, 155 West Main Street\, Smithtown\, NY\, 11787\, United States
CATEGORIES:Weekly Tournaments
ORGANIZER;CN="Average Joe's Cornhole":MAILTO:eric@averagejoescornhole.com
END:VEVENT
BEGIN:VEVENT
DTSTART;TZID=America/New_York:20270615T190000
DTEND;TZID=America/New_York:20270615T230000
DTSTAMP:20260420T224242
CREATED:20251016T152253Z
LAST-MODIFIED:20251016T155402Z
UID:10000371-1813086000-1813100400@averagejoescornhole.com
SUMMARY:Bull Smith's open switch
DESCRIPTION:Come on down to Bull Smith’s Tavern for a fun night on 3 outdoor courts weather permitting. 3 or 4 game switch format\, into a double elimination tournament. With your entry you will receive a free drink. At least 70% payout to the winners. Register early as there is limited space.
URL:https://averagejoescornhole.com/event/bull-smiths-open-switch-10-14/2027-06-15/
LOCATION:Bull Smiths Tavern\, 155 West Main Street\, Smithtown\, NY\, 11787\, United States
CATEGORIES:Weekly Tournaments
ORGANIZER;CN="Average Joe's Cornhole":MAILTO:eric@averagejoescornhole.com
END:VEVENT
BEGIN:VEVENT
DTSTART;TZID=America/New_York:20270622T190000
DTEND;TZID=America/New_York:20270622T230000
DTSTAMP:20260420T224242
CREATED:20251016T152253Z
LAST-MODIFIED:20251016T155402Z
UID:10000372-1813690800-1813705200@averagejoescornhole.com
SUMMARY:Bull Smith's open switch
DESCRIPTION:Come on down to Bull Smith’s Tavern for a fun night on 3 outdoor courts weather permitting. 3 or 4 game switch format\, into a double elimination tournament. With your entry you will receive a free drink. At least 70% payout to the winners. Register early as there is limited space.
URL:https://averagejoescornhole.com/event/bull-smiths-open-switch-10-14/2027-06-22/
LOCATION:Bull Smiths Tavern\, 155 West Main Street\, Smithtown\, NY\, 11787\, United States
CATEGORIES:Weekly Tournaments
ORGANIZER;CN="Average Joe's Cornhole":MAILTO:eric@averagejoescornhole.com
END:VEVENT
BEGIN:VEVENT
DTSTART;TZID=America/New_York:20270629T190000
DTEND;TZID=America/New_York:20270629T230000
DTSTAMP:20260420T224242
CREATED:20251016T152253Z
LAST-MODIFIED:20251016T155402Z
UID:10000373-1814295600-1814310000@averagejoescornhole.com
SUMMARY:Bull Smith's open switch
DESCRIPTION:Come on down to Bull Smith’s Tavern for a fun night on 3 outdoor courts weather permitting. 3 or 4 game switch format\, into a double elimination tournament. With your entry you will receive a free drink. At least 70% payout to the winners. Register early as there is limited space.
URL:https://averagejoescornhole.com/event/bull-smiths-open-switch-10-14/2027-06-29/
LOCATION:Bull Smiths Tavern\, 155 West Main Street\, Smithtown\, NY\, 11787\, United States
CATEGORIES:Weekly Tournaments
ORGANIZER;CN="Average Joe's Cornhole":MAILTO:eric@averagejoescornhole.com
END:VEVENT
BEGIN:VEVENT
DTSTART;TZID=America/New_York:20270706T190000
DTEND;TZID=America/New_York:20270706T230000
DTSTAMP:20260420T224242
CREATED:20251016T152253Z
LAST-MODIFIED:20251016T155402Z
UID:10000374-1814900400-1814914800@averagejoescornhole.com
SUMMARY:Bull Smith's open switch
DESCRIPTION:Come on down to Bull Smith’s Tavern for a fun night on 3 outdoor courts weather permitting. 3 or 4 game switch format\, into a double elimination tournament. With your entry you will receive a free drink. At least 70% payout to the winners. Register early as there is limited space.
URL:https://averagejoescornhole.com/event/bull-smiths-open-switch-10-14/2027-07-06/
LOCATION:Bull Smiths Tavern\, 155 West Main Street\, Smithtown\, NY\, 11787\, United States
CATEGORIES:Weekly Tournaments
ORGANIZER;CN="Average Joe's Cornhole":MAILTO:eric@averagejoescornhole.com
END:VEVENT
BEGIN:VEVENT
DTSTART;TZID=America/New_York:20270713T190000
DTEND;TZID=America/New_York:20270713T230000
DTSTAMP:20260420T224242
CREATED:20251016T152253Z
LAST-MODIFIED:20251016T155402Z
UID:10000375-1815505200-1815519600@averagejoescornhole.com
SUMMARY:Bull Smith's open switch
DESCRIPTION:Come on down to Bull Smith’s Tavern for a fun night on 3 outdoor courts weather permitting. 3 or 4 game switch format\, into a double elimination tournament. With your entry you will receive a free drink. At least 70% payout to the winners. Register early as there is limited space.
URL:https://averagejoescornhole.com/event/bull-smiths-open-switch-10-14/2027-07-13/
LOCATION:Bull Smiths Tavern\, 155 West Main Street\, Smithtown\, NY\, 11787\, United States
CATEGORIES:Weekly Tournaments
ORGANIZER;CN="Average Joe's Cornhole":MAILTO:eric@averagejoescornhole.com
END:VEVENT
BEGIN:VEVENT
DTSTART;TZID=America/New_York:20270720T190000
DTEND;TZID=America/New_York:20270720T230000
DTSTAMP:20260420T224242
CREATED:20251016T152253Z
LAST-MODIFIED:20251016T155402Z
UID:10000376-1816110000-1816124400@averagejoescornhole.com
SUMMARY:Bull Smith's open switch
DESCRIPTION:Come on down to Bull Smith’s Tavern for a fun night on 3 outdoor courts weather permitting. 3 or 4 game switch format\, into a double elimination tournament. With your entry you will receive a free drink. At least 70% payout to the winners. Register early as there is limited space.
URL:https://averagejoescornhole.com/event/bull-smiths-open-switch-10-14/2027-07-20/
LOCATION:Bull Smiths Tavern\, 155 West Main Street\, Smithtown\, NY\, 11787\, United States
CATEGORIES:Weekly Tournaments
ORGANIZER;CN="Average Joe's Cornhole":MAILTO:eric@averagejoescornhole.com
END:VEVENT
BEGIN:VEVENT
DTSTART;TZID=America/New_York:20270727T190000
DTEND;TZID=America/New_York:20270727T230000
DTSTAMP:20260420T224242
CREATED:20251016T152253Z
LAST-MODIFIED:20251016T155402Z
UID:10000377-1816714800-1816729200@averagejoescornhole.com
SUMMARY:Bull Smith's open switch
DESCRIPTION:Come on down to Bull Smith’s Tavern for a fun night on 3 outdoor courts weather permitting. 3 or 4 game switch format\, into a double elimination tournament. With your entry you will receive a free drink. At least 70% payout to the winners. Register early as there is limited space.
URL:https://averagejoescornhole.com/event/bull-smiths-open-switch-10-14/2027-07-27/
LOCATION:Bull Smiths Tavern\, 155 West Main Street\, Smithtown\, NY\, 11787\, United States
CATEGORIES:Weekly Tournaments
ORGANIZER;CN="Average Joe's Cornhole":MAILTO:eric@averagejoescornhole.com
END:VEVENT
BEGIN:VEVENT
DTSTART;TZID=America/New_York:20270803T190000
DTEND;TZID=America/New_York:20270803T230000
DTSTAMP:20260420T224242
CREATED:20251016T152253Z
LAST-MODIFIED:20251016T155402Z
UID:10000378-1817319600-1817334000@averagejoescornhole.com
SUMMARY:Bull Smith's open switch
DESCRIPTION:Come on down to Bull Smith’s Tavern for a fun night on 3 outdoor courts weather permitting. 3 or 4 game switch format\, into a double elimination tournament. With your entry you will receive a free drink. At least 70% payout to the winners. Register early as there is limited space.
URL:https://averagejoescornhole.com/event/bull-smiths-open-switch-10-14/2027-08-03/
LOCATION:Bull Smiths Tavern\, 155 West Main Street\, Smithtown\, NY\, 11787\, United States
CATEGORIES:Weekly Tournaments
ORGANIZER;CN="Average Joe's Cornhole":MAILTO:eric@averagejoescornhole.com
END:VEVENT
BEGIN:VEVENT
DTSTART;TZID=America/New_York:20270810T190000
DTEND;TZID=America/New_York:20270810T230000
DTSTAMP:20260420T224242
CREATED:20251016T152253Z
LAST-MODIFIED:20251016T155402Z
UID:10000379-1817924400-1817938800@averagejoescornhole.com
SUMMARY:Bull Smith's open switch
DESCRIPTION:Come on down to Bull Smith’s Tavern for a fun night on 3 outdoor courts weather permitting. 3 or 4 game switch format\, into a double elimination tournament. With your entry you will receive a free drink. At least 70% payout to the winners. Register early as there is limited space.
URL:https://averagejoescornhole.com/event/bull-smiths-open-switch-10-14/2027-08-10/
LOCATION:Bull Smiths Tavern\, 155 West Main Street\, Smithtown\, NY\, 11787\, United States
CATEGORIES:Weekly Tournaments
ORGANIZER;CN="Average Joe's Cornhole":MAILTO:eric@averagejoescornhole.com
END:VEVENT
BEGIN:VEVENT
DTSTART;TZID=America/New_York:20270817T190000
DTEND;TZID=America/New_York:20270817T230000
DTSTAMP:20260420T224242
CREATED:20251016T152253Z
LAST-MODIFIED:20251016T155402Z
UID:10000380-1818529200-1818543600@averagejoescornhole.com
SUMMARY:Bull Smith's open switch
DESCRIPTION:Come on down to Bull Smith’s Tavern for a fun night on 3 outdoor courts weather permitting. 3 or 4 game switch format\, into a double elimination tournament. With your entry you will receive a free drink. At least 70% payout to the winners. Register early as there is limited space.
URL:https://averagejoescornhole.com/event/bull-smiths-open-switch-10-14/2027-08-17/
LOCATION:Bull Smiths Tavern\, 155 West Main Street\, Smithtown\, NY\, 11787\, United States
CATEGORIES:Weekly Tournaments
ORGANIZER;CN="Average Joe's Cornhole":MAILTO:eric@averagejoescornhole.com
END:VEVENT
BEGIN:VEVENT
DTSTART;TZID=America/New_York:20270824T190000
DTEND;TZID=America/New_York:20270824T230000
DTSTAMP:20260420T224242
CREATED:20251016T152253Z
LAST-MODIFIED:20251016T155402Z
UID:10000381-1819134000-1819148400@averagejoescornhole.com
SUMMARY:Bull Smith's open switch
DESCRIPTION:Come on down to Bull Smith’s Tavern for a fun night on 3 outdoor courts weather permitting. 3 or 4 game switch format\, into a double elimination tournament. With your entry you will receive a free drink. At least 70% payout to the winners. Register early as there is limited space.
URL:https://averagejoescornhole.com/event/bull-smiths-open-switch-10-14/2027-08-24/
LOCATION:Bull Smiths Tavern\, 155 West Main Street\, Smithtown\, NY\, 11787\, United States
CATEGORIES:Weekly Tournaments
ORGANIZER;CN="Average Joe's Cornhole":MAILTO:eric@averagejoescornhole.com
END:VEVENT
BEGIN:VEVENT
DTSTART;TZID=America/New_York:20270831T190000
DTEND;TZID=America/New_York:20270831T230000
DTSTAMP:20260420T224242
CREATED:20251016T152253Z
LAST-MODIFIED:20251016T155402Z
UID:10000382-1819738800-1819753200@averagejoescornhole.com
SUMMARY:Bull Smith's open switch
DESCRIPTION:Come on down to Bull Smith’s Tavern for a fun night on 3 outdoor courts weather permitting. 3 or 4 game switch format\, into a double elimination tournament. With your entry you will receive a free drink. At least 70% payout to the winners. Register early as there is limited space.
URL:https://averagejoescornhole.com/event/bull-smiths-open-switch-10-14/2027-08-31/
LOCATION:Bull Smiths Tavern\, 155 West Main Street\, Smithtown\, NY\, 11787\, United States
CATEGORIES:Weekly Tournaments
ORGANIZER;CN="Average Joe's Cornhole":MAILTO:eric@averagejoescornhole.com
END:VEVENT
BEGIN:VEVENT
DTSTART;TZID=America/New_York:20270907T190000
DTEND;TZID=America/New_York:20270907T230000
DTSTAMP:20260420T224242
CREATED:20251016T152253Z
LAST-MODIFIED:20251016T155402Z
UID:10000383-1820343600-1820358000@averagejoescornhole.com
SUMMARY:Bull Smith's open switch
DESCRIPTION:Come on down to Bull Smith’s Tavern for a fun night on 3 outdoor courts weather permitting. 3 or 4 game switch format\, into a double elimination tournament. With your entry you will receive a free drink. At least 70% payout to the winners. Register early as there is limited space.
URL:https://averagejoescornhole.com/event/bull-smiths-open-switch-10-14/2027-09-07/
LOCATION:Bull Smiths Tavern\, 155 West Main Street\, Smithtown\, NY\, 11787\, United States
CATEGORIES:Weekly Tournaments
ORGANIZER;CN="Average Joe's Cornhole":MAILTO:eric@averagejoescornhole.com
END:VEVENT
BEGIN:VEVENT
DTSTART;TZID=America/New_York:20270914T190000
DTEND;TZID=America/New_York:20270914T230000
DTSTAMP:20260420T224242
CREATED:20251016T152253Z
LAST-MODIFIED:20251016T155402Z
UID:10000384-1820948400-1820962800@averagejoescornhole.com
SUMMARY:Bull Smith's open switch
DESCRIPTION:Come on down to Bull Smith’s Tavern for a fun night on 3 outdoor courts weather permitting. 3 or 4 game switch format\, into a double elimination tournament. With your entry you will receive a free drink. At least 70% payout to the winners. Register early as there is limited space.
URL:https://averagejoescornhole.com/event/bull-smiths-open-switch-10-14/2027-09-14/
LOCATION:Bull Smiths Tavern\, 155 West Main Street\, Smithtown\, NY\, 11787\, United States
CATEGORIES:Weekly Tournaments
ORGANIZER;CN="Average Joe's Cornhole":MAILTO:eric@averagejoescornhole.com
END:VEVENT
BEGIN:VEVENT
DTSTART;TZID=America/New_York:20270921T190000
DTEND;TZID=America/New_York:20270921T230000
DTSTAMP:20260420T224242
CREATED:20251016T152253Z
LAST-MODIFIED:20251016T155402Z
UID:10000385-1821553200-1821567600@averagejoescornhole.com
SUMMARY:Bull Smith's open switch
DESCRIPTION:Come on down to Bull Smith’s Tavern for a fun night on 3 outdoor courts weather permitting. 3 or 4 game switch format\, into a double elimination tournament. With your entry you will receive a free drink. At least 70% payout to the winners. Register early as there is limited space.
URL:https://averagejoescornhole.com/event/bull-smiths-open-switch-10-14/2027-09-21/
LOCATION:Bull Smiths Tavern\, 155 West Main Street\, Smithtown\, NY\, 11787\, United States
CATEGORIES:Weekly Tournaments
ORGANIZER;CN="Average Joe's Cornhole":MAILTO:eric@averagejoescornhole.com
END:VEVENT
BEGIN:VEVENT
DTSTART;TZID=America/New_York:20270928T190000
DTEND;TZID=America/New_York:20270928T230000
DTSTAMP:20260420T224242
CREATED:20251016T152253Z
LAST-MODIFIED:20251016T155402Z
UID:10000386-1822158000-1822172400@averagejoescornhole.com
SUMMARY:Bull Smith's open switch
DESCRIPTION:Come on down to Bull Smith’s Tavern for a fun night on 3 outdoor courts weather permitting. 3 or 4 game switch format\, into a double elimination tournament. With your entry you will receive a free drink. At least 70% payout to the winners. Register early as there is limited space.
URL:https://averagejoescornhole.com/event/bull-smiths-open-switch-10-14/2027-09-28/
LOCATION:Bull Smiths Tavern\, 155 West Main Street\, Smithtown\, NY\, 11787\, United States
CATEGORIES:Weekly Tournaments
ORGANIZER;CN="Average Joe's Cornhole":MAILTO:eric@averagejoescornhole.com
END:VEVENT
BEGIN:VEVENT
DTSTART;TZID=America/New_York:20271005T190000
DTEND;TZID=America/New_York:20271005T230000
DTSTAMP:20260420T224242
CREATED:20251016T152253Z
LAST-MODIFIED:20251016T155402Z
UID:10000387-1822762800-1822777200@averagejoescornhole.com
SUMMARY:Bull Smith's open switch
DESCRIPTION:Come on down to Bull Smith’s Tavern for a fun night on 3 outdoor courts weather permitting. 3 or 4 game switch format\, into a double elimination tournament. With your entry you will receive a free drink. At least 70% payout to the winners. Register early as there is limited space.
URL:https://averagejoescornhole.com/event/bull-smiths-open-switch-10-14/2027-10-05/
LOCATION:Bull Smiths Tavern\, 155 West Main Street\, Smithtown\, NY\, 11787\, United States
CATEGORIES:Weekly Tournaments
ORGANIZER;CN="Average Joe's Cornhole":MAILTO:eric@averagejoescornhole.com
END:VEVENT
BEGIN:VEVENT
DTSTART;TZID=America/New_York:20271012T190000
DTEND;TZID=America/New_York:20271012T230000
DTSTAMP:20260420T224242
CREATED:20251016T152253Z
LAST-MODIFIED:20251016T155402Z
UID:10000388-1823367600-1823382000@averagejoescornhole.com
SUMMARY:Bull Smith's open switch
DESCRIPTION:Come on down to Bull Smith’s Tavern for a fun night on 3 outdoor courts weather permitting. 3 or 4 game switch format\, into a double elimination tournament. With your entry you will receive a free drink. At least 70% payout to the winners. Register early as there is limited space.
URL:https://averagejoescornhole.com/event/bull-smiths-open-switch-10-14/2027-10-12/
LOCATION:Bull Smiths Tavern\, 155 West Main Street\, Smithtown\, NY\, 11787\, United States
CATEGORIES:Weekly Tournaments
ORGANIZER;CN="Average Joe's Cornhole":MAILTO:eric@averagejoescornhole.com
END:VEVENT
BEGIN:VEVENT
DTSTART;TZID=America/New_York:20271019T190000
DTEND;TZID=America/New_York:20271019T230000
DTSTAMP:20260420T224242
CREATED:20251016T152253Z
LAST-MODIFIED:20251016T155402Z
UID:10000389-1823972400-1823986800@averagejoescornhole.com
SUMMARY:Bull Smith's open switch
DESCRIPTION:Come on down to Bull Smith’s Tavern for a fun night on 3 outdoor courts weather permitting. 3 or 4 game switch format\, into a double elimination tournament. With your entry you will receive a free drink. At least 70% payout to the winners. Register early as there is limited space.
URL:https://averagejoescornhole.com/event/bull-smiths-open-switch-10-14/2027-10-19/
LOCATION:Bull Smiths Tavern\, 155 West Main Street\, Smithtown\, NY\, 11787\, United States
CATEGORIES:Weekly Tournaments
ORGANIZER;CN="Average Joe's Cornhole":MAILTO:eric@averagejoescornhole.com
END:VEVENT
BEGIN:VEVENT
DTSTART;TZID=America/New_York:20271026T190000
DTEND;TZID=America/New_York:20271026T230000
DTSTAMP:20260420T224242
CREATED:20251016T152253Z
LAST-MODIFIED:20251016T155402Z
UID:10000390-1824577200-1824591600@averagejoescornhole.com
SUMMARY:Bull Smith's open switch
DESCRIPTION:Come on down to Bull Smith’s Tavern for a fun night on 3 outdoor courts weather permitting. 3 or 4 game switch format\, into a double elimination tournament. With your entry you will receive a free drink. At least 70% payout to the winners. Register early as there is limited space.
URL:https://averagejoescornhole.com/event/bull-smiths-open-switch-10-14/2027-10-26/
LOCATION:Bull Smiths Tavern\, 155 West Main Street\, Smithtown\, NY\, 11787\, United States
CATEGORIES:Weekly Tournaments
ORGANIZER;CN="Average Joe's Cornhole":MAILTO:eric@averagejoescornhole.com
END:VEVENT
BEGIN:VEVENT
DTSTART;TZID=America/New_York:20271102T190000
DTEND;TZID=America/New_York:20271102T230000
DTSTAMP:20260420T224242
CREATED:20251016T152253Z
LAST-MODIFIED:20251016T155402Z
UID:10000391-1825182000-1825196400@averagejoescornhole.com
SUMMARY:Bull Smith's open switch
DESCRIPTION:Come on down to Bull Smith’s Tavern for a fun night on 3 outdoor courts weather permitting. 3 or 4 game switch format\, into a double elimination tournament. With your entry you will receive a free drink. At least 70% payout to the winners. Register early as there is limited space.
URL:https://averagejoescornhole.com/event/bull-smiths-open-switch-10-14/2027-11-02/
LOCATION:Bull Smiths Tavern\, 155 West Main Street\, Smithtown\, NY\, 11787\, United States
CATEGORIES:Weekly Tournaments
ORGANIZER;CN="Average Joe's Cornhole":MAILTO:eric@averagejoescornhole.com
END:VEVENT
BEGIN:VEVENT
DTSTART;TZID=America/New_York:20271109T190000
DTEND;TZID=America/New_York:20271109T230000
DTSTAMP:20260420T224242
CREATED:20251016T152253Z
LAST-MODIFIED:20251016T155402Z
UID:10000392-1825786800-1825801200@averagejoescornhole.com
SUMMARY:Bull Smith's open switch
DESCRIPTION:Come on down to Bull Smith’s Tavern for a fun night on 3 outdoor courts weather permitting. 3 or 4 game switch format\, into a double elimination tournament. With your entry you will receive a free drink. At least 70% payout to the winners. Register early as there is limited space.
URL:https://averagejoescornhole.com/event/bull-smiths-open-switch-10-14/2027-11-09/
LOCATION:Bull Smiths Tavern\, 155 West Main Street\, Smithtown\, NY\, 11787\, United States
CATEGORIES:Weekly Tournaments
ORGANIZER;CN="Average Joe's Cornhole":MAILTO:eric@averagejoescornhole.com
END:VEVENT
BEGIN:VEVENT
DTSTART;TZID=America/New_York:20271116T190000
DTEND;TZID=America/New_York:20271116T230000
DTSTAMP:20260420T224242
CREATED:20251016T152253Z
LAST-MODIFIED:20251016T155402Z
UID:10000393-1826391600-1826406000@averagejoescornhole.com
SUMMARY:Bull Smith's open switch
DESCRIPTION:Come on down to Bull Smith’s Tavern for a fun night on 3 outdoor courts weather permitting. 3 or 4 game switch format\, into a double elimination tournament. With your entry you will receive a free drink. At least 70% payout to the winners. Register early as there is limited space.
URL:https://averagejoescornhole.com/event/bull-smiths-open-switch-10-14/2027-11-16/
LOCATION:Bull Smiths Tavern\, 155 West Main Street\, Smithtown\, NY\, 11787\, United States
CATEGORIES:Weekly Tournaments
ORGANIZER;CN="Average Joe's Cornhole":MAILTO:eric@averagejoescornhole.com
END:VEVENT
BEGIN:VEVENT
DTSTART;TZID=America/New_York:20271123T190000
DTEND;TZID=America/New_York:20271123T230000
DTSTAMP:20260420T224242
CREATED:20251016T152253Z
LAST-MODIFIED:20251016T155402Z
UID:10000394-1826996400-1827010800@averagejoescornhole.com
SUMMARY:Bull Smith's open switch
DESCRIPTION:Come on down to Bull Smith’s Tavern for a fun night on 3 outdoor courts weather permitting. 3 or 4 game switch format\, into a double elimination tournament. With your entry you will receive a free drink. At least 70% payout to the winners. Register early as there is limited space.
URL:https://averagejoescornhole.com/event/bull-smiths-open-switch-10-14/2027-11-23/
LOCATION:Bull Smiths Tavern\, 155 West Main Street\, Smithtown\, NY\, 11787\, United States
CATEGORIES:Weekly Tournaments
ORGANIZER;CN="Average Joe's Cornhole":MAILTO:eric@averagejoescornhole.com
END:VEVENT
BEGIN:VEVENT
DTSTART;TZID=America/New_York:20271130T190000
DTEND;TZID=America/New_York:20271130T230000
DTSTAMP:20260420T224242
CREATED:20251016T152253Z
LAST-MODIFIED:20251016T155402Z
UID:10000395-1827601200-1827615600@averagejoescornhole.com
SUMMARY:Bull Smith's open switch
DESCRIPTION:Come on down to Bull Smith’s Tavern for a fun night on 3 outdoor courts weather permitting. 3 or 4 game switch format\, into a double elimination tournament. With your entry you will receive a free drink. At least 70% payout to the winners. Register early as there is limited space.
URL:https://averagejoescornhole.com/event/bull-smiths-open-switch-10-14/2027-11-30/
LOCATION:Bull Smiths Tavern\, 155 West Main Street\, Smithtown\, NY\, 11787\, United States
CATEGORIES:Weekly Tournaments
ORGANIZER;CN="Average Joe's Cornhole":MAILTO:eric@averagejoescornhole.com
END:VEVENT
BEGIN:VEVENT
DTSTART;TZID=America/New_York:20271207T190000
DTEND;TZID=America/New_York:20271207T230000
DTSTAMP:20260420T224242
CREATED:20251016T152253Z
LAST-MODIFIED:20251016T155402Z
UID:10000396-1828206000-1828220400@averagejoescornhole.com
SUMMARY:Bull Smith's open switch
DESCRIPTION:Come on down to Bull Smith’s Tavern for a fun night on 3 outdoor courts weather permitting. 3 or 4 game switch format\, into a double elimination tournament. With your entry you will receive a free drink. At least 70% payout to the winners. Register early as there is limited space.
URL:https://averagejoescornhole.com/event/bull-smiths-open-switch-10-14/2027-12-07/
LOCATION:Bull Smiths Tavern\, 155 West Main Street\, Smithtown\, NY\, 11787\, United States
CATEGORIES:Weekly Tournaments
ORGANIZER;CN="Average Joe's Cornhole":MAILTO:eric@averagejoescornhole.com
END:VEVENT
BEGIN:VEVENT
DTSTART;TZID=America/New_York:20271214T190000
DTEND;TZID=America/New_York:20271214T230000
DTSTAMP:20260420T224242
CREATED:20251016T152253Z
LAST-MODIFIED:20251016T155402Z
UID:10000397-1828810800-1828825200@averagejoescornhole.com
SUMMARY:Bull Smith's open switch
DESCRIPTION:Come on down to Bull Smith’s Tavern for a fun night on 3 outdoor courts weather permitting. 3 or 4 game switch format\, into a double elimination tournament. With your entry you will receive a free drink. At least 70% payout to the winners. Register early as there is limited space.
URL:https://averagejoescornhole.com/event/bull-smiths-open-switch-10-14/2027-12-14/
LOCATION:Bull Smiths Tavern\, 155 West Main Street\, Smithtown\, NY\, 11787\, United States
CATEGORIES:Weekly Tournaments
ORGANIZER;CN="Average Joe's Cornhole":MAILTO:eric@averagejoescornhole.com
END:VEVENT
BEGIN:VEVENT
DTSTART;TZID=America/New_York:20271221T190000
DTEND;TZID=America/New_York:20271221T230000
DTSTAMP:20260420T224242
CREATED:20251016T152253Z
LAST-MODIFIED:20251016T155402Z
UID:10000398-1829415600-1829430000@averagejoescornhole.com
SUMMARY:Bull Smith's open switch
DESCRIPTION:Come on down to Bull Smith’s Tavern for a fun night on 3 outdoor courts weather permitting. 3 or 4 game switch format\, into a double elimination tournament. With your entry you will receive a free drink. At least 70% payout to the winners. Register early as there is limited space.
URL:https://averagejoescornhole.com/event/bull-smiths-open-switch-10-14/2027-12-21/
LOCATION:Bull Smiths Tavern\, 155 West Main Street\, Smithtown\, NY\, 11787\, United States
CATEGORIES:Weekly Tournaments
ORGANIZER;CN="Average Joe's Cornhole":MAILTO:eric@averagejoescornhole.com
END:VEVENT
END:VCALENDAR