BEGIN:VCALENDAR
VERSION:2.0
PRODID:-//Average Joe’s Cornhole Inc - ECPv6.15.14//NONSGML v1.0//EN
CALSCALE:GREGORIAN
METHOD:PUBLISH
X-ORIGINAL-URL:https://averagejoescornhole.com
X-WR-CALDESC:Events for Average Joe’s Cornhole Inc
REFRESH-INTERVAL;VALUE=DURATION:PT1H
X-Robots-Tag:noindex
X-PUBLISHED-TTL:PT1H
BEGIN:VTIMEZONE
TZID:America/New_York
BEGIN:DAYLIGHT
TZOFFSETFROM:-0500
TZOFFSETTO:-0400
TZNAME:EDT
DTSTART:20280312T070000
END:DAYLIGHT
BEGIN:STANDARD
TZOFFSETFROM:-0400
TZOFFSETTO:-0500
TZNAME:EST
DTSTART:20281105T060000
END:STANDARD
BEGIN:DAYLIGHT
TZOFFSETFROM:-0500
TZOFFSETTO:-0400
TZNAME:EDT
DTSTART:20290311T070000
END:DAYLIGHT
BEGIN:STANDARD
TZOFFSETFROM:-0400
TZOFFSETTO:-0500
TZNAME:EST
DTSTART:20291104T060000
END:STANDARD
BEGIN:DAYLIGHT
TZOFFSETFROM:-0500
TZOFFSETTO:-0400
TZNAME:EDT
DTSTART:20300310T070000
END:DAYLIGHT
BEGIN:STANDARD
TZOFFSETFROM:-0400
TZOFFSETTO:-0500
TZNAME:EST
DTSTART:20301103T060000
END:STANDARD
END:VTIMEZONE
BEGIN:VEVENT
DTSTART;TZID=America/New_York:20290529T190000
DTEND;TZID=America/New_York:20290529T230000
DTSTAMP:20260421T224624
CREATED:20251016T152253Z
LAST-MODIFIED:20251016T155402Z
UID:10000473-1874775600-1874790000@averagejoescornhole.com
SUMMARY:Bull Smith's open switch
DESCRIPTION:Come on down to Bull Smith’s Tavern for a fun night on 3 outdoor courts weather permitting. 3 or 4 game switch format\, into a double elimination tournament. With your entry you will receive a free drink. At least 70% payout to the winners. Register early as there is limited space.
URL:https://averagejoescornhole.com/event/bull-smiths-open-switch-10-14/2029-05-29/
LOCATION:Bull Smiths Tavern\, 155 West Main Street\, Smithtown\, NY\, 11787\, United States
CATEGORIES:Weekly Tournaments
ORGANIZER;CN="Average Joe's Cornhole":MAILTO:eric@averagejoescornhole.com
END:VEVENT
BEGIN:VEVENT
DTSTART;TZID=America/New_York:20290605T190000
DTEND;TZID=America/New_York:20290605T230000
DTSTAMP:20260421T224624
CREATED:20251016T152253Z
LAST-MODIFIED:20251016T155402Z
UID:10000474-1875380400-1875394800@averagejoescornhole.com
SUMMARY:Bull Smith's open switch
DESCRIPTION:Come on down to Bull Smith’s Tavern for a fun night on 3 outdoor courts weather permitting. 3 or 4 game switch format\, into a double elimination tournament. With your entry you will receive a free drink. At least 70% payout to the winners. Register early as there is limited space.
URL:https://averagejoescornhole.com/event/bull-smiths-open-switch-10-14/2029-06-05/
LOCATION:Bull Smiths Tavern\, 155 West Main Street\, Smithtown\, NY\, 11787\, United States
CATEGORIES:Weekly Tournaments
ORGANIZER;CN="Average Joe's Cornhole":MAILTO:eric@averagejoescornhole.com
END:VEVENT
BEGIN:VEVENT
DTSTART;TZID=America/New_York:20290612T190000
DTEND;TZID=America/New_York:20290612T230000
DTSTAMP:20260421T224624
CREATED:20251016T152253Z
LAST-MODIFIED:20251016T155402Z
UID:10000475-1875985200-1875999600@averagejoescornhole.com
SUMMARY:Bull Smith's open switch
DESCRIPTION:Come on down to Bull Smith’s Tavern for a fun night on 3 outdoor courts weather permitting. 3 or 4 game switch format\, into a double elimination tournament. With your entry you will receive a free drink. At least 70% payout to the winners. Register early as there is limited space.
URL:https://averagejoescornhole.com/event/bull-smiths-open-switch-10-14/2029-06-12/
LOCATION:Bull Smiths Tavern\, 155 West Main Street\, Smithtown\, NY\, 11787\, United States
CATEGORIES:Weekly Tournaments
ORGANIZER;CN="Average Joe's Cornhole":MAILTO:eric@averagejoescornhole.com
END:VEVENT
BEGIN:VEVENT
DTSTART;TZID=America/New_York:20290619T190000
DTEND;TZID=America/New_York:20290619T230000
DTSTAMP:20260421T224624
CREATED:20251016T152253Z
LAST-MODIFIED:20251016T155402Z
UID:10000476-1876590000-1876604400@averagejoescornhole.com
SUMMARY:Bull Smith's open switch
DESCRIPTION:Come on down to Bull Smith’s Tavern for a fun night on 3 outdoor courts weather permitting. 3 or 4 game switch format\, into a double elimination tournament. With your entry you will receive a free drink. At least 70% payout to the winners. Register early as there is limited space.
URL:https://averagejoescornhole.com/event/bull-smiths-open-switch-10-14/2029-06-19/
LOCATION:Bull Smiths Tavern\, 155 West Main Street\, Smithtown\, NY\, 11787\, United States
CATEGORIES:Weekly Tournaments
ORGANIZER;CN="Average Joe's Cornhole":MAILTO:eric@averagejoescornhole.com
END:VEVENT
BEGIN:VEVENT
DTSTART;TZID=America/New_York:20290626T190000
DTEND;TZID=America/New_York:20290626T230000
DTSTAMP:20260421T224624
CREATED:20251016T152253Z
LAST-MODIFIED:20251016T155402Z
UID:10000477-1877194800-1877209200@averagejoescornhole.com
SUMMARY:Bull Smith's open switch
DESCRIPTION:Come on down to Bull Smith’s Tavern for a fun night on 3 outdoor courts weather permitting. 3 or 4 game switch format\, into a double elimination tournament. With your entry you will receive a free drink. At least 70% payout to the winners. Register early as there is limited space.
URL:https://averagejoescornhole.com/event/bull-smiths-open-switch-10-14/2029-06-26/
LOCATION:Bull Smiths Tavern\, 155 West Main Street\, Smithtown\, NY\, 11787\, United States
CATEGORIES:Weekly Tournaments
ORGANIZER;CN="Average Joe's Cornhole":MAILTO:eric@averagejoescornhole.com
END:VEVENT
BEGIN:VEVENT
DTSTART;TZID=America/New_York:20290703T190000
DTEND;TZID=America/New_York:20290703T230000
DTSTAMP:20260421T224624
CREATED:20251016T152253Z
LAST-MODIFIED:20251016T155402Z
UID:10000478-1877799600-1877814000@averagejoescornhole.com
SUMMARY:Bull Smith's open switch
DESCRIPTION:Come on down to Bull Smith’s Tavern for a fun night on 3 outdoor courts weather permitting. 3 or 4 game switch format\, into a double elimination tournament. With your entry you will receive a free drink. At least 70% payout to the winners. Register early as there is limited space.
URL:https://averagejoescornhole.com/event/bull-smiths-open-switch-10-14/2029-07-03/
LOCATION:Bull Smiths Tavern\, 155 West Main Street\, Smithtown\, NY\, 11787\, United States
CATEGORIES:Weekly Tournaments
ORGANIZER;CN="Average Joe's Cornhole":MAILTO:eric@averagejoescornhole.com
END:VEVENT
BEGIN:VEVENT
DTSTART;TZID=America/New_York:20290710T190000
DTEND;TZID=America/New_York:20290710T230000
DTSTAMP:20260421T224624
CREATED:20251016T152253Z
LAST-MODIFIED:20251016T155402Z
UID:10000479-1878404400-1878418800@averagejoescornhole.com
SUMMARY:Bull Smith's open switch
DESCRIPTION:Come on down to Bull Smith’s Tavern for a fun night on 3 outdoor courts weather permitting. 3 or 4 game switch format\, into a double elimination tournament. With your entry you will receive a free drink. At least 70% payout to the winners. Register early as there is limited space.
URL:https://averagejoescornhole.com/event/bull-smiths-open-switch-10-14/2029-07-10/
LOCATION:Bull Smiths Tavern\, 155 West Main Street\, Smithtown\, NY\, 11787\, United States
CATEGORIES:Weekly Tournaments
ORGANIZER;CN="Average Joe's Cornhole":MAILTO:eric@averagejoescornhole.com
END:VEVENT
BEGIN:VEVENT
DTSTART;TZID=America/New_York:20290717T190000
DTEND;TZID=America/New_York:20290717T230000
DTSTAMP:20260421T224624
CREATED:20251016T152253Z
LAST-MODIFIED:20251016T155402Z
UID:10000480-1879009200-1879023600@averagejoescornhole.com
SUMMARY:Bull Smith's open switch
DESCRIPTION:Come on down to Bull Smith’s Tavern for a fun night on 3 outdoor courts weather permitting. 3 or 4 game switch format\, into a double elimination tournament. With your entry you will receive a free drink. At least 70% payout to the winners. Register early as there is limited space.
URL:https://averagejoescornhole.com/event/bull-smiths-open-switch-10-14/2029-07-17/
LOCATION:Bull Smiths Tavern\, 155 West Main Street\, Smithtown\, NY\, 11787\, United States
CATEGORIES:Weekly Tournaments
ORGANIZER;CN="Average Joe's Cornhole":MAILTO:eric@averagejoescornhole.com
END:VEVENT
BEGIN:VEVENT
DTSTART;TZID=America/New_York:20290724T190000
DTEND;TZID=America/New_York:20290724T230000
DTSTAMP:20260421T224624
CREATED:20251016T152253Z
LAST-MODIFIED:20251016T155402Z
UID:10000481-1879614000-1879628400@averagejoescornhole.com
SUMMARY:Bull Smith's open switch
DESCRIPTION:Come on down to Bull Smith’s Tavern for a fun night on 3 outdoor courts weather permitting. 3 or 4 game switch format\, into a double elimination tournament. With your entry you will receive a free drink. At least 70% payout to the winners. Register early as there is limited space.
URL:https://averagejoescornhole.com/event/bull-smiths-open-switch-10-14/2029-07-24/
LOCATION:Bull Smiths Tavern\, 155 West Main Street\, Smithtown\, NY\, 11787\, United States
CATEGORIES:Weekly Tournaments
ORGANIZER;CN="Average Joe's Cornhole":MAILTO:eric@averagejoescornhole.com
END:VEVENT
BEGIN:VEVENT
DTSTART;TZID=America/New_York:20290731T190000
DTEND;TZID=America/New_York:20290731T230000
DTSTAMP:20260421T224624
CREATED:20251016T152253Z
LAST-MODIFIED:20251016T155402Z
UID:10000482-1880218800-1880233200@averagejoescornhole.com
SUMMARY:Bull Smith's open switch
DESCRIPTION:Come on down to Bull Smith’s Tavern for a fun night on 3 outdoor courts weather permitting. 3 or 4 game switch format\, into a double elimination tournament. With your entry you will receive a free drink. At least 70% payout to the winners. Register early as there is limited space.
URL:https://averagejoescornhole.com/event/bull-smiths-open-switch-10-14/2029-07-31/
LOCATION:Bull Smiths Tavern\, 155 West Main Street\, Smithtown\, NY\, 11787\, United States
CATEGORIES:Weekly Tournaments
ORGANIZER;CN="Average Joe's Cornhole":MAILTO:eric@averagejoescornhole.com
END:VEVENT
BEGIN:VEVENT
DTSTART;TZID=America/New_York:20290807T190000
DTEND;TZID=America/New_York:20290807T230000
DTSTAMP:20260421T224624
CREATED:20251016T152253Z
LAST-MODIFIED:20251016T155402Z
UID:10000483-1880823600-1880838000@averagejoescornhole.com
SUMMARY:Bull Smith's open switch
DESCRIPTION:Come on down to Bull Smith’s Tavern for a fun night on 3 outdoor courts weather permitting. 3 or 4 game switch format\, into a double elimination tournament. With your entry you will receive a free drink. At least 70% payout to the winners. Register early as there is limited space.
URL:https://averagejoescornhole.com/event/bull-smiths-open-switch-10-14/2029-08-07/
LOCATION:Bull Smiths Tavern\, 155 West Main Street\, Smithtown\, NY\, 11787\, United States
CATEGORIES:Weekly Tournaments
ORGANIZER;CN="Average Joe's Cornhole":MAILTO:eric@averagejoescornhole.com
END:VEVENT
BEGIN:VEVENT
DTSTART;TZID=America/New_York:20290814T190000
DTEND;TZID=America/New_York:20290814T230000
DTSTAMP:20260421T224624
CREATED:20251016T152253Z
LAST-MODIFIED:20251016T155402Z
UID:10000484-1881428400-1881442800@averagejoescornhole.com
SUMMARY:Bull Smith's open switch
DESCRIPTION:Come on down to Bull Smith’s Tavern for a fun night on 3 outdoor courts weather permitting. 3 or 4 game switch format\, into a double elimination tournament. With your entry you will receive a free drink. At least 70% payout to the winners. Register early as there is limited space.
URL:https://averagejoescornhole.com/event/bull-smiths-open-switch-10-14/2029-08-14/
LOCATION:Bull Smiths Tavern\, 155 West Main Street\, Smithtown\, NY\, 11787\, United States
CATEGORIES:Weekly Tournaments
ORGANIZER;CN="Average Joe's Cornhole":MAILTO:eric@averagejoescornhole.com
END:VEVENT
BEGIN:VEVENT
DTSTART;TZID=America/New_York:20290821T190000
DTEND;TZID=America/New_York:20290821T230000
DTSTAMP:20260421T224624
CREATED:20251016T152253Z
LAST-MODIFIED:20251016T155402Z
UID:10000485-1882033200-1882047600@averagejoescornhole.com
SUMMARY:Bull Smith's open switch
DESCRIPTION:Come on down to Bull Smith’s Tavern for a fun night on 3 outdoor courts weather permitting. 3 or 4 game switch format\, into a double elimination tournament. With your entry you will receive a free drink. At least 70% payout to the winners. Register early as there is limited space.
URL:https://averagejoescornhole.com/event/bull-smiths-open-switch-10-14/2029-08-21/
LOCATION:Bull Smiths Tavern\, 155 West Main Street\, Smithtown\, NY\, 11787\, United States
CATEGORIES:Weekly Tournaments
ORGANIZER;CN="Average Joe's Cornhole":MAILTO:eric@averagejoescornhole.com
END:VEVENT
BEGIN:VEVENT
DTSTART;TZID=America/New_York:20290828T190000
DTEND;TZID=America/New_York:20290828T230000
DTSTAMP:20260421T224624
CREATED:20251016T152253Z
LAST-MODIFIED:20251016T155402Z
UID:10000486-1882638000-1882652400@averagejoescornhole.com
SUMMARY:Bull Smith's open switch
DESCRIPTION:Come on down to Bull Smith’s Tavern for a fun night on 3 outdoor courts weather permitting. 3 or 4 game switch format\, into a double elimination tournament. With your entry you will receive a free drink. At least 70% payout to the winners. Register early as there is limited space.
URL:https://averagejoescornhole.com/event/bull-smiths-open-switch-10-14/2029-08-28/
LOCATION:Bull Smiths Tavern\, 155 West Main Street\, Smithtown\, NY\, 11787\, United States
CATEGORIES:Weekly Tournaments
ORGANIZER;CN="Average Joe's Cornhole":MAILTO:eric@averagejoescornhole.com
END:VEVENT
BEGIN:VEVENT
DTSTART;TZID=America/New_York:20290904T190000
DTEND;TZID=America/New_York:20290904T230000
DTSTAMP:20260421T224624
CREATED:20251016T152253Z
LAST-MODIFIED:20251016T155402Z
UID:10000487-1883242800-1883257200@averagejoescornhole.com
SUMMARY:Bull Smith's open switch
DESCRIPTION:Come on down to Bull Smith’s Tavern for a fun night on 3 outdoor courts weather permitting. 3 or 4 game switch format\, into a double elimination tournament. With your entry you will receive a free drink. At least 70% payout to the winners. Register early as there is limited space.
URL:https://averagejoescornhole.com/event/bull-smiths-open-switch-10-14/2029-09-04/
LOCATION:Bull Smiths Tavern\, 155 West Main Street\, Smithtown\, NY\, 11787\, United States
CATEGORIES:Weekly Tournaments
ORGANIZER;CN="Average Joe's Cornhole":MAILTO:eric@averagejoescornhole.com
END:VEVENT
BEGIN:VEVENT
DTSTART;TZID=America/New_York:20290911T190000
DTEND;TZID=America/New_York:20290911T230000
DTSTAMP:20260421T224624
CREATED:20251016T152253Z
LAST-MODIFIED:20251016T155402Z
UID:10000488-1883847600-1883862000@averagejoescornhole.com
SUMMARY:Bull Smith's open switch
DESCRIPTION:Come on down to Bull Smith’s Tavern for a fun night on 3 outdoor courts weather permitting. 3 or 4 game switch format\, into a double elimination tournament. With your entry you will receive a free drink. At least 70% payout to the winners. Register early as there is limited space.
URL:https://averagejoescornhole.com/event/bull-smiths-open-switch-10-14/2029-09-11/
LOCATION:Bull Smiths Tavern\, 155 West Main Street\, Smithtown\, NY\, 11787\, United States
CATEGORIES:Weekly Tournaments
ORGANIZER;CN="Average Joe's Cornhole":MAILTO:eric@averagejoescornhole.com
END:VEVENT
BEGIN:VEVENT
DTSTART;TZID=America/New_York:20290918T190000
DTEND;TZID=America/New_York:20290918T230000
DTSTAMP:20260421T224624
CREATED:20251016T152253Z
LAST-MODIFIED:20251016T155402Z
UID:10000489-1884452400-1884466800@averagejoescornhole.com
SUMMARY:Bull Smith's open switch
DESCRIPTION:Come on down to Bull Smith’s Tavern for a fun night on 3 outdoor courts weather permitting. 3 or 4 game switch format\, into a double elimination tournament. With your entry you will receive a free drink. At least 70% payout to the winners. Register early as there is limited space.
URL:https://averagejoescornhole.com/event/bull-smiths-open-switch-10-14/2029-09-18/
LOCATION:Bull Smiths Tavern\, 155 West Main Street\, Smithtown\, NY\, 11787\, United States
CATEGORIES:Weekly Tournaments
ORGANIZER;CN="Average Joe's Cornhole":MAILTO:eric@averagejoescornhole.com
END:VEVENT
BEGIN:VEVENT
DTSTART;TZID=America/New_York:20290925T190000
DTEND;TZID=America/New_York:20290925T230000
DTSTAMP:20260421T224624
CREATED:20251016T152253Z
LAST-MODIFIED:20251016T155402Z
UID:10000490-1885057200-1885071600@averagejoescornhole.com
SUMMARY:Bull Smith's open switch
DESCRIPTION:Come on down to Bull Smith’s Tavern for a fun night on 3 outdoor courts weather permitting. 3 or 4 game switch format\, into a double elimination tournament. With your entry you will receive a free drink. At least 70% payout to the winners. Register early as there is limited space.
URL:https://averagejoescornhole.com/event/bull-smiths-open-switch-10-14/2029-09-25/
LOCATION:Bull Smiths Tavern\, 155 West Main Street\, Smithtown\, NY\, 11787\, United States
CATEGORIES:Weekly Tournaments
ORGANIZER;CN="Average Joe's Cornhole":MAILTO:eric@averagejoescornhole.com
END:VEVENT
BEGIN:VEVENT
DTSTART;TZID=America/New_York:20291002T190000
DTEND;TZID=America/New_York:20291002T230000
DTSTAMP:20260421T224624
CREATED:20251016T152253Z
LAST-MODIFIED:20251016T155402Z
UID:10000491-1885662000-1885676400@averagejoescornhole.com
SUMMARY:Bull Smith's open switch
DESCRIPTION:Come on down to Bull Smith’s Tavern for a fun night on 3 outdoor courts weather permitting. 3 or 4 game switch format\, into a double elimination tournament. With your entry you will receive a free drink. At least 70% payout to the winners. Register early as there is limited space.
URL:https://averagejoescornhole.com/event/bull-smiths-open-switch-10-14/2029-10-02/
LOCATION:Bull Smiths Tavern\, 155 West Main Street\, Smithtown\, NY\, 11787\, United States
CATEGORIES:Weekly Tournaments
ORGANIZER;CN="Average Joe's Cornhole":MAILTO:eric@averagejoescornhole.com
END:VEVENT
BEGIN:VEVENT
DTSTART;TZID=America/New_York:20291009T190000
DTEND;TZID=America/New_York:20291009T230000
DTSTAMP:20260421T224624
CREATED:20251016T152253Z
LAST-MODIFIED:20251016T155402Z
UID:10000492-1886266800-1886281200@averagejoescornhole.com
SUMMARY:Bull Smith's open switch
DESCRIPTION:Come on down to Bull Smith’s Tavern for a fun night on 3 outdoor courts weather permitting. 3 or 4 game switch format\, into a double elimination tournament. With your entry you will receive a free drink. At least 70% payout to the winners. Register early as there is limited space.
URL:https://averagejoescornhole.com/event/bull-smiths-open-switch-10-14/2029-10-09/
LOCATION:Bull Smiths Tavern\, 155 West Main Street\, Smithtown\, NY\, 11787\, United States
CATEGORIES:Weekly Tournaments
ORGANIZER;CN="Average Joe's Cornhole":MAILTO:eric@averagejoescornhole.com
END:VEVENT
BEGIN:VEVENT
DTSTART;TZID=America/New_York:20291016T190000
DTEND;TZID=America/New_York:20291016T230000
DTSTAMP:20260421T224624
CREATED:20251016T152253Z
LAST-MODIFIED:20251016T155402Z
UID:10000493-1886871600-1886886000@averagejoescornhole.com
SUMMARY:Bull Smith's open switch
DESCRIPTION:Come on down to Bull Smith’s Tavern for a fun night on 3 outdoor courts weather permitting. 3 or 4 game switch format\, into a double elimination tournament. With your entry you will receive a free drink. At least 70% payout to the winners. Register early as there is limited space.
URL:https://averagejoescornhole.com/event/bull-smiths-open-switch-10-14/2029-10-16/
LOCATION:Bull Smiths Tavern\, 155 West Main Street\, Smithtown\, NY\, 11787\, United States
CATEGORIES:Weekly Tournaments
ORGANIZER;CN="Average Joe's Cornhole":MAILTO:eric@averagejoescornhole.com
END:VEVENT
BEGIN:VEVENT
DTSTART;TZID=America/New_York:20291023T190000
DTEND;TZID=America/New_York:20291023T230000
DTSTAMP:20260421T224624
CREATED:20251016T152253Z
LAST-MODIFIED:20251016T155402Z
UID:10000494-1887476400-1887490800@averagejoescornhole.com
SUMMARY:Bull Smith's open switch
DESCRIPTION:Come on down to Bull Smith’s Tavern for a fun night on 3 outdoor courts weather permitting. 3 or 4 game switch format\, into a double elimination tournament. With your entry you will receive a free drink. At least 70% payout to the winners. Register early as there is limited space.
URL:https://averagejoescornhole.com/event/bull-smiths-open-switch-10-14/2029-10-23/
LOCATION:Bull Smiths Tavern\, 155 West Main Street\, Smithtown\, NY\, 11787\, United States
CATEGORIES:Weekly Tournaments
ORGANIZER;CN="Average Joe's Cornhole":MAILTO:eric@averagejoescornhole.com
END:VEVENT
BEGIN:VEVENT
DTSTART;TZID=America/New_York:20291030T190000
DTEND;TZID=America/New_York:20291030T230000
DTSTAMP:20260421T224624
CREATED:20251016T152253Z
LAST-MODIFIED:20251016T155402Z
UID:10000495-1888081200-1888095600@averagejoescornhole.com
SUMMARY:Bull Smith's open switch
DESCRIPTION:Come on down to Bull Smith’s Tavern for a fun night on 3 outdoor courts weather permitting. 3 or 4 game switch format\, into a double elimination tournament. With your entry you will receive a free drink. At least 70% payout to the winners. Register early as there is limited space.
URL:https://averagejoescornhole.com/event/bull-smiths-open-switch-10-14/2029-10-30/
LOCATION:Bull Smiths Tavern\, 155 West Main Street\, Smithtown\, NY\, 11787\, United States
CATEGORIES:Weekly Tournaments
ORGANIZER;CN="Average Joe's Cornhole":MAILTO:eric@averagejoescornhole.com
END:VEVENT
BEGIN:VEVENT
DTSTART;TZID=America/New_York:20291106T190000
DTEND;TZID=America/New_York:20291106T230000
DTSTAMP:20260421T224624
CREATED:20251016T152253Z
LAST-MODIFIED:20251016T155402Z
UID:10000496-1888686000-1888700400@averagejoescornhole.com
SUMMARY:Bull Smith's open switch
DESCRIPTION:Come on down to Bull Smith’s Tavern for a fun night on 3 outdoor courts weather permitting. 3 or 4 game switch format\, into a double elimination tournament. With your entry you will receive a free drink. At least 70% payout to the winners. Register early as there is limited space.
URL:https://averagejoescornhole.com/event/bull-smiths-open-switch-10-14/2029-11-06/
LOCATION:Bull Smiths Tavern\, 155 West Main Street\, Smithtown\, NY\, 11787\, United States
CATEGORIES:Weekly Tournaments
ORGANIZER;CN="Average Joe's Cornhole":MAILTO:eric@averagejoescornhole.com
END:VEVENT
BEGIN:VEVENT
DTSTART;TZID=America/New_York:20291113T190000
DTEND;TZID=America/New_York:20291113T230000
DTSTAMP:20260421T224624
CREATED:20251016T152253Z
LAST-MODIFIED:20251016T155402Z
UID:10000497-1889290800-1889305200@averagejoescornhole.com
SUMMARY:Bull Smith's open switch
DESCRIPTION:Come on down to Bull Smith’s Tavern for a fun night on 3 outdoor courts weather permitting. 3 or 4 game switch format\, into a double elimination tournament. With your entry you will receive a free drink. At least 70% payout to the winners. Register early as there is limited space.
URL:https://averagejoescornhole.com/event/bull-smiths-open-switch-10-14/2029-11-13/
LOCATION:Bull Smiths Tavern\, 155 West Main Street\, Smithtown\, NY\, 11787\, United States
CATEGORIES:Weekly Tournaments
ORGANIZER;CN="Average Joe's Cornhole":MAILTO:eric@averagejoescornhole.com
END:VEVENT
BEGIN:VEVENT
DTSTART;TZID=America/New_York:20291120T190000
DTEND;TZID=America/New_York:20291120T230000
DTSTAMP:20260421T224624
CREATED:20251016T152253Z
LAST-MODIFIED:20251016T155402Z
UID:10000498-1889895600-1889910000@averagejoescornhole.com
SUMMARY:Bull Smith's open switch
DESCRIPTION:Come on down to Bull Smith’s Tavern for a fun night on 3 outdoor courts weather permitting. 3 or 4 game switch format\, into a double elimination tournament. With your entry you will receive a free drink. At least 70% payout to the winners. Register early as there is limited space.
URL:https://averagejoescornhole.com/event/bull-smiths-open-switch-10-14/2029-11-20/
LOCATION:Bull Smiths Tavern\, 155 West Main Street\, Smithtown\, NY\, 11787\, United States
CATEGORIES:Weekly Tournaments
ORGANIZER;CN="Average Joe's Cornhole":MAILTO:eric@averagejoescornhole.com
END:VEVENT
BEGIN:VEVENT
DTSTART;TZID=America/New_York:20291127T190000
DTEND;TZID=America/New_York:20291127T230000
DTSTAMP:20260421T224624
CREATED:20251016T152253Z
LAST-MODIFIED:20251016T155402Z
UID:10000499-1890500400-1890514800@averagejoescornhole.com
SUMMARY:Bull Smith's open switch
DESCRIPTION:Come on down to Bull Smith’s Tavern for a fun night on 3 outdoor courts weather permitting. 3 or 4 game switch format\, into a double elimination tournament. With your entry you will receive a free drink. At least 70% payout to the winners. Register early as there is limited space.
URL:https://averagejoescornhole.com/event/bull-smiths-open-switch-10-14/2029-11-27/
LOCATION:Bull Smiths Tavern\, 155 West Main Street\, Smithtown\, NY\, 11787\, United States
CATEGORIES:Weekly Tournaments
ORGANIZER;CN="Average Joe's Cornhole":MAILTO:eric@averagejoescornhole.com
END:VEVENT
BEGIN:VEVENT
DTSTART;TZID=America/New_York:20291204T190000
DTEND;TZID=America/New_York:20291204T230000
DTSTAMP:20260421T224624
CREATED:20251016T152253Z
LAST-MODIFIED:20251016T155402Z
UID:10000500-1891105200-1891119600@averagejoescornhole.com
SUMMARY:Bull Smith's open switch
DESCRIPTION:Come on down to Bull Smith’s Tavern for a fun night on 3 outdoor courts weather permitting. 3 or 4 game switch format\, into a double elimination tournament. With your entry you will receive a free drink. At least 70% payout to the winners. Register early as there is limited space.
URL:https://averagejoescornhole.com/event/bull-smiths-open-switch-10-14/2029-12-04/
LOCATION:Bull Smiths Tavern\, 155 West Main Street\, Smithtown\, NY\, 11787\, United States
CATEGORIES:Weekly Tournaments
ORGANIZER;CN="Average Joe's Cornhole":MAILTO:eric@averagejoescornhole.com
END:VEVENT
BEGIN:VEVENT
DTSTART;TZID=America/New_York:20291211T190000
DTEND;TZID=America/New_York:20291211T230000
DTSTAMP:20260421T224624
CREATED:20251016T152253Z
LAST-MODIFIED:20251016T155402Z
UID:10000501-1891710000-1891724400@averagejoescornhole.com
SUMMARY:Bull Smith's open switch
DESCRIPTION:Come on down to Bull Smith’s Tavern for a fun night on 3 outdoor courts weather permitting. 3 or 4 game switch format\, into a double elimination tournament. With your entry you will receive a free drink. At least 70% payout to the winners. Register early as there is limited space.
URL:https://averagejoescornhole.com/event/bull-smiths-open-switch-10-14/2029-12-11/
LOCATION:Bull Smiths Tavern\, 155 West Main Street\, Smithtown\, NY\, 11787\, United States
CATEGORIES:Weekly Tournaments
ORGANIZER;CN="Average Joe's Cornhole":MAILTO:eric@averagejoescornhole.com
END:VEVENT
BEGIN:VEVENT
DTSTART;TZID=America/New_York:20291218T190000
DTEND;TZID=America/New_York:20291218T230000
DTSTAMP:20260421T224624
CREATED:20251016T152253Z
LAST-MODIFIED:20251016T155402Z
UID:10000502-1892314800-1892329200@averagejoescornhole.com
SUMMARY:Bull Smith's open switch
DESCRIPTION:Come on down to Bull Smith’s Tavern for a fun night on 3 outdoor courts weather permitting. 3 or 4 game switch format\, into a double elimination tournament. With your entry you will receive a free drink. At least 70% payout to the winners. Register early as there is limited space.
URL:https://averagejoescornhole.com/event/bull-smiths-open-switch-10-14/2029-12-18/
LOCATION:Bull Smiths Tavern\, 155 West Main Street\, Smithtown\, NY\, 11787\, United States
CATEGORIES:Weekly Tournaments
ORGANIZER;CN="Average Joe's Cornhole":MAILTO:eric@averagejoescornhole.com
END:VEVENT
END:VCALENDAR