BEGIN:VCALENDAR
VERSION:2.0
PRODID:-//Average Joe’s Cornhole Inc - ECPv6.15.14//NONSGML v1.0//EN
CALSCALE:GREGORIAN
METHOD:PUBLISH
X-WR-CALNAME:Average Joe’s Cornhole Inc
X-ORIGINAL-URL:https://averagejoescornhole.com
X-WR-CALDESC:Events for Average Joe’s Cornhole Inc
REFRESH-INTERVAL;VALUE=DURATION:PT1H
X-Robots-Tag:noindex
X-PUBLISHED-TTL:PT1H
BEGIN:VTIMEZONE
TZID:America/New_York
BEGIN:DAYLIGHT
TZOFFSETFROM:-0500
TZOFFSETTO:-0400
TZNAME:EDT
DTSTART:20240310T070000
END:DAYLIGHT
BEGIN:STANDARD
TZOFFSETFROM:-0400
TZOFFSETTO:-0500
TZNAME:EST
DTSTART:20241103T060000
END:STANDARD
BEGIN:DAYLIGHT
TZOFFSETFROM:-0500
TZOFFSETTO:-0400
TZNAME:EDT
DTSTART:20250309T070000
END:DAYLIGHT
BEGIN:STANDARD
TZOFFSETFROM:-0400
TZOFFSETTO:-0500
TZNAME:EST
DTSTART:20251102T060000
END:STANDARD
BEGIN:DAYLIGHT
TZOFFSETFROM:-0500
TZOFFSETTO:-0400
TZNAME:EDT
DTSTART:20260308T070000
END:DAYLIGHT
BEGIN:STANDARD
TZOFFSETFROM:-0400
TZOFFSETTO:-0500
TZNAME:EST
DTSTART:20261101T060000
END:STANDARD
END:VTIMEZONE
BEGIN:VEVENT
DTSTART;TZID=America/New_York:20250227T183000
DTEND;TZID=America/New_York:20250227T230000
DTSTAMP:20260420T235510
CREATED:20250120T050421Z
LAST-MODIFIED:20250120T050421Z
UID:10000279-1740681000-1740697200@averagejoescornhole.com
SUMMARY:ACO Regional Blind Draw and Seniors
DESCRIPTION:ACO Regional Tournament Thursday February 27th doors open 6:30pm\, bags fly 7:00pm. We will be holding a Blind draw double elimination tournament with a 3-game warmup. We will be running a Seniors Bracket at 6:30pm. \nNo outside Drinks\, please. \nEvents are listed on Scoreholio \nBlind Draw: https://share.scoreholio.com/ZGxl4AuOiQb \nSeniors: https://share.scoreholio.com/mviFyWrOiQb
URL:https://averagejoescornhole.com/event/aco-regional-blind-draw-and-seniors-3/
LOCATION:Firemans Park Pavilion\, Linderhurst\, NY\, 555 Heling Blvd\, Lindenhurst\, NY\, 11757\, United States
ORGANIZER;CN="Average Joe's Cornhole":MAILTO:eric@averagejoescornhole.com
END:VEVENT
BEGIN:VEVENT
DTSTART;TZID=America/New_York:20250223T150000
DTEND;TZID=America/New_York:20250223T203000
DTSTAMP:20260420T235510
CREATED:20250116T051242Z
LAST-MODIFIED:20250307T213229Z
UID:10000275-1740322800-1740342600@averagejoescornhole.com
SUMMARY:ACO Regional World Doubles\, Singles\, Tier Double\, Singles\, and Seniors.
DESCRIPTION:ACO Regional Tournament Sunday February 23rd Doors open at 2:30\, bags fly 3:00pm. We will be holding World Doubles\, Singles. Tiers 3 & 4 Doubles\, Singles. Seniors. \nVenue Fee $10 \n  \nMultiple Scoreholio Links \nWorld Doubles: https://share.scoreholio.com/lT6R3bGsaQb \nTier 3 Doubles: https://share.scoreholio.com/cv3GnPJsaQb \nTier 4 Doubles: https://share.scoreholio.com/EYhnczMsaQb \nWorld Singles: https://share.scoreholio.com/t8uxVQPsaQb \nTier 3 Singles: https://share.scoreholio.com/Wh7KiORsaQb \nTier 4 Singles: https://share.scoreholio.com/H3AuOrVsaQb
URL:https://averagejoescornhole.com/event/aco-regional-world-doubles-singles-tier-double-singles-and-seniors-2/
LOCATION:Give it your all sports\, 2127 Lakeland Ave #5 Ronkonkoma\, NY 11779
ORGANIZER;CN="Average Joe's Cornhole":MAILTO:eric@averagejoescornhole.com
END:VEVENT
BEGIN:VEVENT
DTSTART;TZID=America/New_York:20250213T183000
DTEND;TZID=America/New_York:20250213T230000
DTSTAMP:20260420T235510
CREATED:20250120T050107Z
LAST-MODIFIED:20250120T050107Z
UID:10000278-1739471400-1739487600@averagejoescornhole.com
SUMMARY:ACO Regional Blind Draw and Seniors
DESCRIPTION:ACO Regional Tournament Thursday February 13th doors open 6:30pm\, bags fly 7:00pm. We will be holding a Blind draw double elimination tournament with a 3-game warmup. We will be running a Seniors Bracket at 6:30pm. \nNo outside Drinks\, please. \nEvents are listed on Scoreholio \nBlind Draw: https://share.scoreholio.com/1V52yNgOiQb \nSeniors: https://share.scoreholio.com/SOQylyoOiQb
URL:https://averagejoescornhole.com/event/aco-regional-blind-draw-and-seniors-2/
LOCATION:Firemans Park Pavilion\, Linderhurst\, NY\, 555 Heling Blvd\, Lindenhurst\, NY\, 11757\, United States
ORGANIZER;CN="Average Joe's Cornhole":MAILTO:eric@averagejoescornhole.com
END:VEVENT
BEGIN:VEVENT
DTSTART;TZID=America/New_York:20250123T183000
DTEND;TZID=America/New_York:20250123T230000
DTSTAMP:20260420T235510
CREATED:20250116T052229Z
LAST-MODIFIED:20250116T052229Z
UID:10000276-1737657000-1737673200@averagejoescornhole.com
SUMMARY:ACO Regional Blind Draw and Seniors
DESCRIPTION:ACO Regional Tournament Thursday January 23rd Doors open 6:30pm\, bags fly 7:00pm. We will be holding a Blind draw double elimination tournament with a 3-game warmup. We will be running a Seniors Bracket at 6:30pm. \nNo outside Drinks\, please. \nEvents are listed on scoreholio \nBlind Draw: https://share.scoreholio.com/MmDQvcizhPb \nSeniors: https://share.scoreholio.com/YrS3L9ZsaQb
URL:https://averagejoescornhole.com/event/aco-regional-blind-draw-and-seniors/
LOCATION:Firemans Park Pavilion\, Linderhurst\, NY\, 555 Heling Blvd\, Lindenhurst\, NY\, 11757\, United States
ORGANIZER;CN="Average Joe's Cornhole":MAILTO:eric@averagejoescornhole.com
END:VEVENT
BEGIN:VEVENT
DTSTART;TZID=America/New_York:20250118T130000
DTEND;TZID=America/New_York:20250118T193000
DTSTAMP:20260420T235510
CREATED:20250116T050434Z
LAST-MODIFIED:20250116T050434Z
UID:10000274-1737205200-1737228600@averagejoescornhole.com
SUMMARY:ACO Regional World Doubles\, Singles\, Tier Double\, Singles\, and Seniors.
DESCRIPTION:ACO Regional Tournament Saturday January 18th Doors open at 12:30\, bags fly 1:00pm. We will be holding World Doubles\, Singles. Tiers 3 & 4 Doubles\, Singles. Seniors. \nVenue Fee $10 \nFood will be included\, bring your own drinks. Food from La Bistro in Coram. \nMultiple Scoreholio Links \nWorld Doubles: https://share.scoreholio.com/juEwBOMZaPb \nTier 3 Doubles: https://share.scoreholio.com/AyLUXp2ZaPb \nTier 4 Doubles: https://share.scoreholio.com/yaq6YMYZaPb \nWorld Singles: https://share.scoreholio.com/ex4lSG8ZaPb \nTier 3 Singles: https://share.scoreholio.com/iUrpruVZaPb \nTier 4 Singles: https://share.scoreholio.com/OjKRtN5ZaPb
URL:https://averagejoescornhole.com/event/aco-regional-world-doubles-singles-tier-double-singles-and-seniors/
LOCATION:Give it your all sports\, 2127 Lakeland Ave #5 Ronkonkoma\, NY 11779
ORGANIZER;CN="Average Joe's Cornhole":MAILTO:eric@averagejoescornhole.com
END:VEVENT
END:VCALENDAR