BEGIN:VCALENDAR
VERSION:2.0
PRODID:-//Average Joe’s Cornhole Inc - ECPv6.15.14//NONSGML v1.0//EN
CALSCALE:GREGORIAN
METHOD:PUBLISH
X-ORIGINAL-URL:https://averagejoescornhole.com
X-WR-CALDESC:Events for Average Joe’s Cornhole Inc
REFRESH-INTERVAL;VALUE=DURATION:PT1H
X-Robots-Tag:noindex
X-PUBLISHED-TTL:PT1H
BEGIN:VTIMEZONE
TZID:America/New_York
BEGIN:DAYLIGHT
TZOFFSETFROM:-0500
TZOFFSETTO:-0400
TZNAME:EDT
DTSTART:20260308T070000
END:DAYLIGHT
BEGIN:STANDARD
TZOFFSETFROM:-0400
TZOFFSETTO:-0500
TZNAME:EST
DTSTART:20261101T060000
END:STANDARD
BEGIN:DAYLIGHT
TZOFFSETFROM:-0500
TZOFFSETTO:-0400
TZNAME:EDT
DTSTART:20270314T070000
END:DAYLIGHT
BEGIN:STANDARD
TZOFFSETFROM:-0400
TZOFFSETTO:-0500
TZNAME:EST
DTSTART:20271107T060000
END:STANDARD
BEGIN:DAYLIGHT
TZOFFSETFROM:-0500
TZOFFSETTO:-0400
TZNAME:EDT
DTSTART:20280312T070000
END:DAYLIGHT
BEGIN:STANDARD
TZOFFSETFROM:-0400
TZOFFSETTO:-0500
TZNAME:EST
DTSTART:20281105T060000
END:STANDARD
END:VTIMEZONE
BEGIN:VEVENT
DTSTART;TZID=America/New_York:20270406T190000
DTEND;TZID=America/New_York:20270406T230000
DTSTAMP:20260420T231028
CREATED:20251016T152253Z
LAST-MODIFIED:20251016T155402Z
UID:10000361-1807038000-1807052400@averagejoescornhole.com
SUMMARY:Bull Smith's open switch
DESCRIPTION:Come on down to Bull Smith’s Tavern for a fun night on 3 outdoor courts weather permitting. 3 or 4 game switch format\, into a double elimination tournament. With your entry you will receive a free drink. At least 70% payout to the winners. Register early as there is limited space.
URL:https://averagejoescornhole.com/event/bull-smiths-open-switch-10-14/2027-04-06/
LOCATION:Bull Smiths Tavern\, 155 West Main Street\, Smithtown\, NY\, 11787\, United States
CATEGORIES:Weekly Tournaments
ORGANIZER;CN="Average Joe's Cornhole":MAILTO:eric@averagejoescornhole.com
END:VEVENT
BEGIN:VEVENT
DTSTART;TZID=America/New_York:20270413T190000
DTEND;TZID=America/New_York:20270413T230000
DTSTAMP:20260420T231028
CREATED:20251016T152253Z
LAST-MODIFIED:20251016T155402Z
UID:10000362-1807642800-1807657200@averagejoescornhole.com
SUMMARY:Bull Smith's open switch
DESCRIPTION:Come on down to Bull Smith’s Tavern for a fun night on 3 outdoor courts weather permitting. 3 or 4 game switch format\, into a double elimination tournament. With your entry you will receive a free drink. At least 70% payout to the winners. Register early as there is limited space.
URL:https://averagejoescornhole.com/event/bull-smiths-open-switch-10-14/2027-04-13/
LOCATION:Bull Smiths Tavern\, 155 West Main Street\, Smithtown\, NY\, 11787\, United States
CATEGORIES:Weekly Tournaments
ORGANIZER;CN="Average Joe's Cornhole":MAILTO:eric@averagejoescornhole.com
END:VEVENT
BEGIN:VEVENT
DTSTART;TZID=America/New_York:20270420T190000
DTEND;TZID=America/New_York:20270420T230000
DTSTAMP:20260420T231028
CREATED:20251016T152253Z
LAST-MODIFIED:20251016T155402Z
UID:10000363-1808247600-1808262000@averagejoescornhole.com
SUMMARY:Bull Smith's open switch
DESCRIPTION:Come on down to Bull Smith’s Tavern for a fun night on 3 outdoor courts weather permitting. 3 or 4 game switch format\, into a double elimination tournament. With your entry you will receive a free drink. At least 70% payout to the winners. Register early as there is limited space.
URL:https://averagejoescornhole.com/event/bull-smiths-open-switch-10-14/2027-04-20/
LOCATION:Bull Smiths Tavern\, 155 West Main Street\, Smithtown\, NY\, 11787\, United States
CATEGORIES:Weekly Tournaments
ORGANIZER;CN="Average Joe's Cornhole":MAILTO:eric@averagejoescornhole.com
END:VEVENT
BEGIN:VEVENT
DTSTART;TZID=America/New_York:20270427T190000
DTEND;TZID=America/New_York:20270427T230000
DTSTAMP:20260420T231028
CREATED:20251016T152253Z
LAST-MODIFIED:20251016T155402Z
UID:10000364-1808852400-1808866800@averagejoescornhole.com
SUMMARY:Bull Smith's open switch
DESCRIPTION:Come on down to Bull Smith’s Tavern for a fun night on 3 outdoor courts weather permitting. 3 or 4 game switch format\, into a double elimination tournament. With your entry you will receive a free drink. At least 70% payout to the winners. Register early as there is limited space.
URL:https://averagejoescornhole.com/event/bull-smiths-open-switch-10-14/2027-04-27/
LOCATION:Bull Smiths Tavern\, 155 West Main Street\, Smithtown\, NY\, 11787\, United States
CATEGORIES:Weekly Tournaments
ORGANIZER;CN="Average Joe's Cornhole":MAILTO:eric@averagejoescornhole.com
END:VEVENT
END:VCALENDAR