BEGIN:VCALENDAR
VERSION:2.0
PRODID:-//Average Joe’s Cornhole Inc - ECPv6.15.14//NONSGML v1.0//EN
CALSCALE:GREGORIAN
METHOD:PUBLISH
X-WR-CALNAME:Average Joe’s Cornhole Inc
X-ORIGINAL-URL:https://averagejoescornhole.com
X-WR-CALDESC:Events for Average Joe’s Cornhole Inc
REFRESH-INTERVAL;VALUE=DURATION:PT1H
X-Robots-Tag:noindex
X-PUBLISHED-TTL:PT1H
BEGIN:VTIMEZONE
TZID:America/New_York
BEGIN:DAYLIGHT
TZOFFSETFROM:-0500
TZOFFSETTO:-0400
TZNAME:EDT
DTSTART:20250309T070000
END:DAYLIGHT
BEGIN:STANDARD
TZOFFSETFROM:-0400
TZOFFSETTO:-0500
TZNAME:EST
DTSTART:20251102T060000
END:STANDARD
BEGIN:DAYLIGHT
TZOFFSETFROM:-0500
TZOFFSETTO:-0400
TZNAME:EDT
DTSTART:20260308T070000
END:DAYLIGHT
BEGIN:STANDARD
TZOFFSETFROM:-0400
TZOFFSETTO:-0500
TZNAME:EST
DTSTART:20261101T060000
END:STANDARD
BEGIN:DAYLIGHT
TZOFFSETFROM:-0500
TZOFFSETTO:-0400
TZNAME:EDT
DTSTART:20270314T070000
END:DAYLIGHT
BEGIN:STANDARD
TZOFFSETFROM:-0400
TZOFFSETTO:-0500
TZNAME:EST
DTSTART:20271107T060000
END:STANDARD
END:VTIMEZONE
BEGIN:VEVENT
DTSTART;TZID=America/New_York:20260421T190000
DTEND;TZID=America/New_York:20260421T230000
DTSTAMP:20260420T021807
CREATED:20251016T152253Z
LAST-MODIFIED:20251016T155402Z
UID:10000311-1776798000-1776812400@averagejoescornhole.com
SUMMARY:Bull Smith's open switch
DESCRIPTION:Come on down to Bull Smith’s Tavern for a fun night on 3 outdoor courts weather permitting. 3 or 4 game switch format\, into a double elimination tournament. With your entry you will receive a free drink. At least 70% payout to the winners. Register early as there is limited space.
URL:https://averagejoescornhole.com/event/bull-smiths-open-switch-10-14/2026-04-21/
LOCATION:Bull Smiths Tavern\, 155 West Main Street\, Smithtown\, NY\, 11787\, United States
CATEGORIES:Weekly Tournaments
ORGANIZER;CN="Average Joe's Cornhole":MAILTO:eric@averagejoescornhole.com
END:VEVENT
BEGIN:VEVENT
DTSTART;TZID=America/New_York:20260428T190000
DTEND;TZID=America/New_York:20260428T230000
DTSTAMP:20260420T021807
CREATED:20251016T152253Z
LAST-MODIFIED:20251016T155402Z
UID:10000312-1777402800-1777417200@averagejoescornhole.com
SUMMARY:Bull Smith's open switch
DESCRIPTION:Come on down to Bull Smith’s Tavern for a fun night on 3 outdoor courts weather permitting. 3 or 4 game switch format\, into a double elimination tournament. With your entry you will receive a free drink. At least 70% payout to the winners. Register early as there is limited space.
URL:https://averagejoescornhole.com/event/bull-smiths-open-switch-10-14/2026-04-28/
LOCATION:Bull Smiths Tavern\, 155 West Main Street\, Smithtown\, NY\, 11787\, United States
CATEGORIES:Weekly Tournaments
ORGANIZER;CN="Average Joe's Cornhole":MAILTO:eric@averagejoescornhole.com
END:VEVENT
BEGIN:VEVENT
DTSTART;TZID=America/New_York:20260505T190000
DTEND;TZID=America/New_York:20260505T230000
DTSTAMP:20260420T021807
CREATED:20251016T152253Z
LAST-MODIFIED:20251016T155402Z
UID:10000313-1778007600-1778022000@averagejoescornhole.com
SUMMARY:Bull Smith's open switch
DESCRIPTION:Come on down to Bull Smith’s Tavern for a fun night on 3 outdoor courts weather permitting. 3 or 4 game switch format\, into a double elimination tournament. With your entry you will receive a free drink. At least 70% payout to the winners. Register early as there is limited space.
URL:https://averagejoescornhole.com/event/bull-smiths-open-switch-10-14/2026-05-05/
LOCATION:Bull Smiths Tavern\, 155 West Main Street\, Smithtown\, NY\, 11787\, United States
CATEGORIES:Weekly Tournaments
ORGANIZER;CN="Average Joe's Cornhole":MAILTO:eric@averagejoescornhole.com
END:VEVENT
BEGIN:VEVENT
DTSTART;TZID=America/New_York:20260512T190000
DTEND;TZID=America/New_York:20260512T230000
DTSTAMP:20260420T021807
CREATED:20251016T152253Z
LAST-MODIFIED:20251016T155402Z
UID:10000314-1778612400-1778626800@averagejoescornhole.com
SUMMARY:Bull Smith's open switch
DESCRIPTION:Come on down to Bull Smith’s Tavern for a fun night on 3 outdoor courts weather permitting. 3 or 4 game switch format\, into a double elimination tournament. With your entry you will receive a free drink. At least 70% payout to the winners. Register early as there is limited space.
URL:https://averagejoescornhole.com/event/bull-smiths-open-switch-10-14/2026-05-12/
LOCATION:Bull Smiths Tavern\, 155 West Main Street\, Smithtown\, NY\, 11787\, United States
CATEGORIES:Weekly Tournaments
ORGANIZER;CN="Average Joe's Cornhole":MAILTO:eric@averagejoescornhole.com
END:VEVENT
BEGIN:VEVENT
DTSTART;TZID=America/New_York:20260519T190000
DTEND;TZID=America/New_York:20260519T230000
DTSTAMP:20260420T021807
CREATED:20251016T152253Z
LAST-MODIFIED:20251016T155402Z
UID:10000315-1779217200-1779231600@averagejoescornhole.com
SUMMARY:Bull Smith's open switch
DESCRIPTION:Come on down to Bull Smith’s Tavern for a fun night on 3 outdoor courts weather permitting. 3 or 4 game switch format\, into a double elimination tournament. With your entry you will receive a free drink. At least 70% payout to the winners. Register early as there is limited space.
URL:https://averagejoescornhole.com/event/bull-smiths-open-switch-10-14/2026-05-19/
LOCATION:Bull Smiths Tavern\, 155 West Main Street\, Smithtown\, NY\, 11787\, United States
CATEGORIES:Weekly Tournaments
ORGANIZER;CN="Average Joe's Cornhole":MAILTO:eric@averagejoescornhole.com
END:VEVENT
BEGIN:VEVENT
DTSTART;TZID=America/New_York:20260526T190000
DTEND;TZID=America/New_York:20260526T230000
DTSTAMP:20260420T021807
CREATED:20251016T152253Z
LAST-MODIFIED:20251016T155402Z
UID:10000316-1779822000-1779836400@averagejoescornhole.com
SUMMARY:Bull Smith's open switch
DESCRIPTION:Come on down to Bull Smith’s Tavern for a fun night on 3 outdoor courts weather permitting. 3 or 4 game switch format\, into a double elimination tournament. With your entry you will receive a free drink. At least 70% payout to the winners. Register early as there is limited space.
URL:https://averagejoescornhole.com/event/bull-smiths-open-switch-10-14/2026-05-26/
LOCATION:Bull Smiths Tavern\, 155 West Main Street\, Smithtown\, NY\, 11787\, United States
CATEGORIES:Weekly Tournaments
ORGANIZER;CN="Average Joe's Cornhole":MAILTO:eric@averagejoescornhole.com
END:VEVENT
BEGIN:VEVENT
DTSTART;TZID=America/New_York:20260602T190000
DTEND;TZID=America/New_York:20260602T230000
DTSTAMP:20260420T021807
CREATED:20251016T152253Z
LAST-MODIFIED:20251016T155402Z
UID:10000317-1780426800-1780441200@averagejoescornhole.com
SUMMARY:Bull Smith's open switch
DESCRIPTION:Come on down to Bull Smith’s Tavern for a fun night on 3 outdoor courts weather permitting. 3 or 4 game switch format\, into a double elimination tournament. With your entry you will receive a free drink. At least 70% payout to the winners. Register early as there is limited space.
URL:https://averagejoescornhole.com/event/bull-smiths-open-switch-10-14/2026-06-02/
LOCATION:Bull Smiths Tavern\, 155 West Main Street\, Smithtown\, NY\, 11787\, United States
CATEGORIES:Weekly Tournaments
ORGANIZER;CN="Average Joe's Cornhole":MAILTO:eric@averagejoescornhole.com
END:VEVENT
BEGIN:VEVENT
DTSTART;TZID=America/New_York:20260609T190000
DTEND;TZID=America/New_York:20260609T230000
DTSTAMP:20260420T021807
CREATED:20251016T152253Z
LAST-MODIFIED:20251016T155402Z
UID:10000318-1781031600-1781046000@averagejoescornhole.com
SUMMARY:Bull Smith's open switch
DESCRIPTION:Come on down to Bull Smith’s Tavern for a fun night on 3 outdoor courts weather permitting. 3 or 4 game switch format\, into a double elimination tournament. With your entry you will receive a free drink. At least 70% payout to the winners. Register early as there is limited space.
URL:https://averagejoescornhole.com/event/bull-smiths-open-switch-10-14/2026-06-09/
LOCATION:Bull Smiths Tavern\, 155 West Main Street\, Smithtown\, NY\, 11787\, United States
CATEGORIES:Weekly Tournaments
ORGANIZER;CN="Average Joe's Cornhole":MAILTO:eric@averagejoescornhole.com
END:VEVENT
BEGIN:VEVENT
DTSTART;TZID=America/New_York:20260616T190000
DTEND;TZID=America/New_York:20260616T230000
DTSTAMP:20260420T021807
CREATED:20251016T152253Z
LAST-MODIFIED:20251016T155402Z
UID:10000319-1781636400-1781650800@averagejoescornhole.com
SUMMARY:Bull Smith's open switch
DESCRIPTION:Come on down to Bull Smith’s Tavern for a fun night on 3 outdoor courts weather permitting. 3 or 4 game switch format\, into a double elimination tournament. With your entry you will receive a free drink. At least 70% payout to the winners. Register early as there is limited space.
URL:https://averagejoescornhole.com/event/bull-smiths-open-switch-10-14/2026-06-16/
LOCATION:Bull Smiths Tavern\, 155 West Main Street\, Smithtown\, NY\, 11787\, United States
CATEGORIES:Weekly Tournaments
ORGANIZER;CN="Average Joe's Cornhole":MAILTO:eric@averagejoescornhole.com
END:VEVENT
BEGIN:VEVENT
DTSTART;TZID=America/New_York:20260623T190000
DTEND;TZID=America/New_York:20260623T230000
DTSTAMP:20260420T021807
CREATED:20251016T152253Z
LAST-MODIFIED:20251016T155402Z
UID:10000320-1782241200-1782255600@averagejoescornhole.com
SUMMARY:Bull Smith's open switch
DESCRIPTION:Come on down to Bull Smith’s Tavern for a fun night on 3 outdoor courts weather permitting. 3 or 4 game switch format\, into a double elimination tournament. With your entry you will receive a free drink. At least 70% payout to the winners. Register early as there is limited space.
URL:https://averagejoescornhole.com/event/bull-smiths-open-switch-10-14/2026-06-23/
LOCATION:Bull Smiths Tavern\, 155 West Main Street\, Smithtown\, NY\, 11787\, United States
CATEGORIES:Weekly Tournaments
ORGANIZER;CN="Average Joe's Cornhole":MAILTO:eric@averagejoescornhole.com
END:VEVENT
BEGIN:VEVENT
DTSTART;TZID=America/New_York:20260630T190000
DTEND;TZID=America/New_York:20260630T230000
DTSTAMP:20260420T021807
CREATED:20251016T152253Z
LAST-MODIFIED:20251016T155402Z
UID:10000321-1782846000-1782860400@averagejoescornhole.com
SUMMARY:Bull Smith's open switch
DESCRIPTION:Come on down to Bull Smith’s Tavern for a fun night on 3 outdoor courts weather permitting. 3 or 4 game switch format\, into a double elimination tournament. With your entry you will receive a free drink. At least 70% payout to the winners. Register early as there is limited space.
URL:https://averagejoescornhole.com/event/bull-smiths-open-switch-10-14/2026-06-30/
LOCATION:Bull Smiths Tavern\, 155 West Main Street\, Smithtown\, NY\, 11787\, United States
CATEGORIES:Weekly Tournaments
ORGANIZER;CN="Average Joe's Cornhole":MAILTO:eric@averagejoescornhole.com
END:VEVENT
BEGIN:VEVENT
DTSTART;TZID=America/New_York:20260707T190000
DTEND;TZID=America/New_York:20260707T230000
DTSTAMP:20260420T021807
CREATED:20251016T152253Z
LAST-MODIFIED:20251016T155402Z
UID:10000322-1783450800-1783465200@averagejoescornhole.com
SUMMARY:Bull Smith's open switch
DESCRIPTION:Come on down to Bull Smith’s Tavern for a fun night on 3 outdoor courts weather permitting. 3 or 4 game switch format\, into a double elimination tournament. With your entry you will receive a free drink. At least 70% payout to the winners. Register early as there is limited space.
URL:https://averagejoescornhole.com/event/bull-smiths-open-switch-10-14/2026-07-07/
LOCATION:Bull Smiths Tavern\, 155 West Main Street\, Smithtown\, NY\, 11787\, United States
CATEGORIES:Weekly Tournaments
ORGANIZER;CN="Average Joe's Cornhole":MAILTO:eric@averagejoescornhole.com
END:VEVENT
BEGIN:VEVENT
DTSTART;TZID=America/New_York:20260714T190000
DTEND;TZID=America/New_York:20260714T230000
DTSTAMP:20260420T021807
CREATED:20251016T152253Z
LAST-MODIFIED:20251016T155402Z
UID:10000323-1784055600-1784070000@averagejoescornhole.com
SUMMARY:Bull Smith's open switch
DESCRIPTION:Come on down to Bull Smith’s Tavern for a fun night on 3 outdoor courts weather permitting. 3 or 4 game switch format\, into a double elimination tournament. With your entry you will receive a free drink. At least 70% payout to the winners. Register early as there is limited space.
URL:https://averagejoescornhole.com/event/bull-smiths-open-switch-10-14/2026-07-14/
LOCATION:Bull Smiths Tavern\, 155 West Main Street\, Smithtown\, NY\, 11787\, United States
CATEGORIES:Weekly Tournaments
ORGANIZER;CN="Average Joe's Cornhole":MAILTO:eric@averagejoescornhole.com
END:VEVENT
BEGIN:VEVENT
DTSTART;TZID=America/New_York:20260721T190000
DTEND;TZID=America/New_York:20260721T230000
DTSTAMP:20260420T021807
CREATED:20251016T152253Z
LAST-MODIFIED:20251016T155402Z
UID:10000324-1784660400-1784674800@averagejoescornhole.com
SUMMARY:Bull Smith's open switch
DESCRIPTION:Come on down to Bull Smith’s Tavern for a fun night on 3 outdoor courts weather permitting. 3 or 4 game switch format\, into a double elimination tournament. With your entry you will receive a free drink. At least 70% payout to the winners. Register early as there is limited space.
URL:https://averagejoescornhole.com/event/bull-smiths-open-switch-10-14/2026-07-21/
LOCATION:Bull Smiths Tavern\, 155 West Main Street\, Smithtown\, NY\, 11787\, United States
CATEGORIES:Weekly Tournaments
ORGANIZER;CN="Average Joe's Cornhole":MAILTO:eric@averagejoescornhole.com
END:VEVENT
BEGIN:VEVENT
DTSTART;TZID=America/New_York:20260728T190000
DTEND;TZID=America/New_York:20260728T230000
DTSTAMP:20260420T021807
CREATED:20251016T152253Z
LAST-MODIFIED:20251016T155402Z
UID:10000325-1785265200-1785279600@averagejoescornhole.com
SUMMARY:Bull Smith's open switch
DESCRIPTION:Come on down to Bull Smith’s Tavern for a fun night on 3 outdoor courts weather permitting. 3 or 4 game switch format\, into a double elimination tournament. With your entry you will receive a free drink. At least 70% payout to the winners. Register early as there is limited space.
URL:https://averagejoescornhole.com/event/bull-smiths-open-switch-10-14/2026-07-28/
LOCATION:Bull Smiths Tavern\, 155 West Main Street\, Smithtown\, NY\, 11787\, United States
CATEGORIES:Weekly Tournaments
ORGANIZER;CN="Average Joe's Cornhole":MAILTO:eric@averagejoescornhole.com
END:VEVENT
BEGIN:VEVENT
DTSTART;TZID=America/New_York:20260804T190000
DTEND;TZID=America/New_York:20260804T230000
DTSTAMP:20260420T021808
CREATED:20251016T152253Z
LAST-MODIFIED:20251016T155402Z
UID:10000326-1785870000-1785884400@averagejoescornhole.com
SUMMARY:Bull Smith's open switch
DESCRIPTION:Come on down to Bull Smith’s Tavern for a fun night on 3 outdoor courts weather permitting. 3 or 4 game switch format\, into a double elimination tournament. With your entry you will receive a free drink. At least 70% payout to the winners. Register early as there is limited space.
URL:https://averagejoescornhole.com/event/bull-smiths-open-switch-10-14/2026-08-04/
LOCATION:Bull Smiths Tavern\, 155 West Main Street\, Smithtown\, NY\, 11787\, United States
CATEGORIES:Weekly Tournaments
ORGANIZER;CN="Average Joe's Cornhole":MAILTO:eric@averagejoescornhole.com
END:VEVENT
BEGIN:VEVENT
DTSTART;TZID=America/New_York:20260811T190000
DTEND;TZID=America/New_York:20260811T230000
DTSTAMP:20260420T021808
CREATED:20251016T152253Z
LAST-MODIFIED:20251016T155402Z
UID:10000327-1786474800-1786489200@averagejoescornhole.com
SUMMARY:Bull Smith's open switch
DESCRIPTION:Come on down to Bull Smith’s Tavern for a fun night on 3 outdoor courts weather permitting. 3 or 4 game switch format\, into a double elimination tournament. With your entry you will receive a free drink. At least 70% payout to the winners. Register early as there is limited space.
URL:https://averagejoescornhole.com/event/bull-smiths-open-switch-10-14/2026-08-11/
LOCATION:Bull Smiths Tavern\, 155 West Main Street\, Smithtown\, NY\, 11787\, United States
CATEGORIES:Weekly Tournaments
ORGANIZER;CN="Average Joe's Cornhole":MAILTO:eric@averagejoescornhole.com
END:VEVENT
BEGIN:VEVENT
DTSTART;TZID=America/New_York:20260818T190000
DTEND;TZID=America/New_York:20260818T230000
DTSTAMP:20260420T021808
CREATED:20251016T152253Z
LAST-MODIFIED:20251016T155402Z
UID:10000328-1787079600-1787094000@averagejoescornhole.com
SUMMARY:Bull Smith's open switch
DESCRIPTION:Come on down to Bull Smith’s Tavern for a fun night on 3 outdoor courts weather permitting. 3 or 4 game switch format\, into a double elimination tournament. With your entry you will receive a free drink. At least 70% payout to the winners. Register early as there is limited space.
URL:https://averagejoescornhole.com/event/bull-smiths-open-switch-10-14/2026-08-18/
LOCATION:Bull Smiths Tavern\, 155 West Main Street\, Smithtown\, NY\, 11787\, United States
CATEGORIES:Weekly Tournaments
ORGANIZER;CN="Average Joe's Cornhole":MAILTO:eric@averagejoescornhole.com
END:VEVENT
BEGIN:VEVENT
DTSTART;TZID=America/New_York:20260825T190000
DTEND;TZID=America/New_York:20260825T230000
DTSTAMP:20260420T021808
CREATED:20251016T152253Z
LAST-MODIFIED:20251016T155402Z
UID:10000329-1787684400-1787698800@averagejoescornhole.com
SUMMARY:Bull Smith's open switch
DESCRIPTION:Come on down to Bull Smith’s Tavern for a fun night on 3 outdoor courts weather permitting. 3 or 4 game switch format\, into a double elimination tournament. With your entry you will receive a free drink. At least 70% payout to the winners. Register early as there is limited space.
URL:https://averagejoescornhole.com/event/bull-smiths-open-switch-10-14/2026-08-25/
LOCATION:Bull Smiths Tavern\, 155 West Main Street\, Smithtown\, NY\, 11787\, United States
CATEGORIES:Weekly Tournaments
ORGANIZER;CN="Average Joe's Cornhole":MAILTO:eric@averagejoescornhole.com
END:VEVENT
BEGIN:VEVENT
DTSTART;TZID=America/New_York:20260901T190000
DTEND;TZID=America/New_York:20260901T230000
DTSTAMP:20260420T021808
CREATED:20251016T152253Z
LAST-MODIFIED:20251016T155402Z
UID:10000330-1788289200-1788303600@averagejoescornhole.com
SUMMARY:Bull Smith's open switch
DESCRIPTION:Come on down to Bull Smith’s Tavern for a fun night on 3 outdoor courts weather permitting. 3 or 4 game switch format\, into a double elimination tournament. With your entry you will receive a free drink. At least 70% payout to the winners. Register early as there is limited space.
URL:https://averagejoescornhole.com/event/bull-smiths-open-switch-10-14/2026-09-01/
LOCATION:Bull Smiths Tavern\, 155 West Main Street\, Smithtown\, NY\, 11787\, United States
CATEGORIES:Weekly Tournaments
ORGANIZER;CN="Average Joe's Cornhole":MAILTO:eric@averagejoescornhole.com
END:VEVENT
BEGIN:VEVENT
DTSTART;TZID=America/New_York:20260908T190000
DTEND;TZID=America/New_York:20260908T230000
DTSTAMP:20260420T021808
CREATED:20251016T152253Z
LAST-MODIFIED:20251016T155402Z
UID:10000331-1788894000-1788908400@averagejoescornhole.com
SUMMARY:Bull Smith's open switch
DESCRIPTION:Come on down to Bull Smith’s Tavern for a fun night on 3 outdoor courts weather permitting. 3 or 4 game switch format\, into a double elimination tournament. With your entry you will receive a free drink. At least 70% payout to the winners. Register early as there is limited space.
URL:https://averagejoescornhole.com/event/bull-smiths-open-switch-10-14/2026-09-08/
LOCATION:Bull Smiths Tavern\, 155 West Main Street\, Smithtown\, NY\, 11787\, United States
CATEGORIES:Weekly Tournaments
ORGANIZER;CN="Average Joe's Cornhole":MAILTO:eric@averagejoescornhole.com
END:VEVENT
BEGIN:VEVENT
DTSTART;TZID=America/New_York:20260915T190000
DTEND;TZID=America/New_York:20260915T230000
DTSTAMP:20260420T021808
CREATED:20251016T152253Z
LAST-MODIFIED:20251016T155402Z
UID:10000332-1789498800-1789513200@averagejoescornhole.com
SUMMARY:Bull Smith's open switch
DESCRIPTION:Come on down to Bull Smith’s Tavern for a fun night on 3 outdoor courts weather permitting. 3 or 4 game switch format\, into a double elimination tournament. With your entry you will receive a free drink. At least 70% payout to the winners. Register early as there is limited space.
URL:https://averagejoescornhole.com/event/bull-smiths-open-switch-10-14/2026-09-15/
LOCATION:Bull Smiths Tavern\, 155 West Main Street\, Smithtown\, NY\, 11787\, United States
CATEGORIES:Weekly Tournaments
ORGANIZER;CN="Average Joe's Cornhole":MAILTO:eric@averagejoescornhole.com
END:VEVENT
BEGIN:VEVENT
DTSTART;TZID=America/New_York:20260922T190000
DTEND;TZID=America/New_York:20260922T230000
DTSTAMP:20260420T021808
CREATED:20251016T152253Z
LAST-MODIFIED:20251016T155402Z
UID:10000333-1790103600-1790118000@averagejoescornhole.com
SUMMARY:Bull Smith's open switch
DESCRIPTION:Come on down to Bull Smith’s Tavern for a fun night on 3 outdoor courts weather permitting. 3 or 4 game switch format\, into a double elimination tournament. With your entry you will receive a free drink. At least 70% payout to the winners. Register early as there is limited space.
URL:https://averagejoescornhole.com/event/bull-smiths-open-switch-10-14/2026-09-22/
LOCATION:Bull Smiths Tavern\, 155 West Main Street\, Smithtown\, NY\, 11787\, United States
CATEGORIES:Weekly Tournaments
ORGANIZER;CN="Average Joe's Cornhole":MAILTO:eric@averagejoescornhole.com
END:VEVENT
BEGIN:VEVENT
DTSTART;TZID=America/New_York:20260929T190000
DTEND;TZID=America/New_York:20260929T230000
DTSTAMP:20260420T021808
CREATED:20251016T152253Z
LAST-MODIFIED:20251016T155402Z
UID:10000334-1790708400-1790722800@averagejoescornhole.com
SUMMARY:Bull Smith's open switch
DESCRIPTION:Come on down to Bull Smith’s Tavern for a fun night on 3 outdoor courts weather permitting. 3 or 4 game switch format\, into a double elimination tournament. With your entry you will receive a free drink. At least 70% payout to the winners. Register early as there is limited space.
URL:https://averagejoescornhole.com/event/bull-smiths-open-switch-10-14/2026-09-29/
LOCATION:Bull Smiths Tavern\, 155 West Main Street\, Smithtown\, NY\, 11787\, United States
CATEGORIES:Weekly Tournaments
ORGANIZER;CN="Average Joe's Cornhole":MAILTO:eric@averagejoescornhole.com
END:VEVENT
BEGIN:VEVENT
DTSTART;TZID=America/New_York:20261006T190000
DTEND;TZID=America/New_York:20261006T230000
DTSTAMP:20260420T021808
CREATED:20251016T152253Z
LAST-MODIFIED:20251016T155402Z
UID:10000335-1791313200-1791327600@averagejoescornhole.com
SUMMARY:Bull Smith's open switch
DESCRIPTION:Come on down to Bull Smith’s Tavern for a fun night on 3 outdoor courts weather permitting. 3 or 4 game switch format\, into a double elimination tournament. With your entry you will receive a free drink. At least 70% payout to the winners. Register early as there is limited space.
URL:https://averagejoescornhole.com/event/bull-smiths-open-switch-10-14/2026-10-06/
LOCATION:Bull Smiths Tavern\, 155 West Main Street\, Smithtown\, NY\, 11787\, United States
CATEGORIES:Weekly Tournaments
ORGANIZER;CN="Average Joe's Cornhole":MAILTO:eric@averagejoescornhole.com
END:VEVENT
BEGIN:VEVENT
DTSTART;TZID=America/New_York:20261013T190000
DTEND;TZID=America/New_York:20261013T230000
DTSTAMP:20260420T021808
CREATED:20251016T152253Z
LAST-MODIFIED:20251016T155402Z
UID:10000336-1791918000-1791932400@averagejoescornhole.com
SUMMARY:Bull Smith's open switch
DESCRIPTION:Come on down to Bull Smith’s Tavern for a fun night on 3 outdoor courts weather permitting. 3 or 4 game switch format\, into a double elimination tournament. With your entry you will receive a free drink. At least 70% payout to the winners. Register early as there is limited space.
URL:https://averagejoescornhole.com/event/bull-smiths-open-switch-10-14/2026-10-13/
LOCATION:Bull Smiths Tavern\, 155 West Main Street\, Smithtown\, NY\, 11787\, United States
CATEGORIES:Weekly Tournaments
ORGANIZER;CN="Average Joe's Cornhole":MAILTO:eric@averagejoescornhole.com
END:VEVENT
BEGIN:VEVENT
DTSTART;TZID=America/New_York:20261020T190000
DTEND;TZID=America/New_York:20261020T230000
DTSTAMP:20260420T021808
CREATED:20251016T152253Z
LAST-MODIFIED:20251016T155402Z
UID:10000337-1792522800-1792537200@averagejoescornhole.com
SUMMARY:Bull Smith's open switch
DESCRIPTION:Come on down to Bull Smith’s Tavern for a fun night on 3 outdoor courts weather permitting. 3 or 4 game switch format\, into a double elimination tournament. With your entry you will receive a free drink. At least 70% payout to the winners. Register early as there is limited space.
URL:https://averagejoescornhole.com/event/bull-smiths-open-switch-10-14/2026-10-20/
LOCATION:Bull Smiths Tavern\, 155 West Main Street\, Smithtown\, NY\, 11787\, United States
CATEGORIES:Weekly Tournaments
ORGANIZER;CN="Average Joe's Cornhole":MAILTO:eric@averagejoescornhole.com
END:VEVENT
BEGIN:VEVENT
DTSTART;TZID=America/New_York:20261027T190000
DTEND;TZID=America/New_York:20261027T230000
DTSTAMP:20260420T021808
CREATED:20251016T152253Z
LAST-MODIFIED:20251016T155402Z
UID:10000338-1793127600-1793142000@averagejoescornhole.com
SUMMARY:Bull Smith's open switch
DESCRIPTION:Come on down to Bull Smith’s Tavern for a fun night on 3 outdoor courts weather permitting. 3 or 4 game switch format\, into a double elimination tournament. With your entry you will receive a free drink. At least 70% payout to the winners. Register early as there is limited space.
URL:https://averagejoescornhole.com/event/bull-smiths-open-switch-10-14/2026-10-27/
LOCATION:Bull Smiths Tavern\, 155 West Main Street\, Smithtown\, NY\, 11787\, United States
CATEGORIES:Weekly Tournaments
ORGANIZER;CN="Average Joe's Cornhole":MAILTO:eric@averagejoescornhole.com
END:VEVENT
BEGIN:VEVENT
DTSTART;TZID=America/New_York:20261103T190000
DTEND;TZID=America/New_York:20261103T230000
DTSTAMP:20260420T021808
CREATED:20251016T152253Z
LAST-MODIFIED:20251016T155402Z
UID:10000339-1793732400-1793746800@averagejoescornhole.com
SUMMARY:Bull Smith's open switch
DESCRIPTION:Come on down to Bull Smith’s Tavern for a fun night on 3 outdoor courts weather permitting. 3 or 4 game switch format\, into a double elimination tournament. With your entry you will receive a free drink. At least 70% payout to the winners. Register early as there is limited space.
URL:https://averagejoescornhole.com/event/bull-smiths-open-switch-10-14/2026-11-03/
LOCATION:Bull Smiths Tavern\, 155 West Main Street\, Smithtown\, NY\, 11787\, United States
CATEGORIES:Weekly Tournaments
ORGANIZER;CN="Average Joe's Cornhole":MAILTO:eric@averagejoescornhole.com
END:VEVENT
BEGIN:VEVENT
DTSTART;TZID=America/New_York:20261110T190000
DTEND;TZID=America/New_York:20261110T230000
DTSTAMP:20260420T021808
CREATED:20251016T152253Z
LAST-MODIFIED:20251016T155402Z
UID:10000340-1794337200-1794351600@averagejoescornhole.com
SUMMARY:Bull Smith's open switch
DESCRIPTION:Come on down to Bull Smith’s Tavern for a fun night on 3 outdoor courts weather permitting. 3 or 4 game switch format\, into a double elimination tournament. With your entry you will receive a free drink. At least 70% payout to the winners. Register early as there is limited space.
URL:https://averagejoescornhole.com/event/bull-smiths-open-switch-10-14/2026-11-10/
LOCATION:Bull Smiths Tavern\, 155 West Main Street\, Smithtown\, NY\, 11787\, United States
CATEGORIES:Weekly Tournaments
ORGANIZER;CN="Average Joe's Cornhole":MAILTO:eric@averagejoescornhole.com
END:VEVENT
END:VCALENDAR