BEGIN:VCALENDAR
VERSION:2.0
PRODID:-//Average Joe’s Cornhole Inc - ECPv6.15.14//NONSGML v1.0//EN
CALSCALE:GREGORIAN
METHOD:PUBLISH
X-ORIGINAL-URL:https://averagejoescornhole.com
X-WR-CALDESC:Events for Average Joe’s Cornhole Inc
REFRESH-INTERVAL;VALUE=DURATION:PT1H
X-Robots-Tag:noindex
X-PUBLISHED-TTL:PT1H
BEGIN:VTIMEZONE
TZID:America/New_York
BEGIN:DAYLIGHT
TZOFFSETFROM:-0500
TZOFFSETTO:-0400
TZNAME:EDT
DTSTART:20240310T070000
END:DAYLIGHT
BEGIN:STANDARD
TZOFFSETFROM:-0400
TZOFFSETTO:-0500
TZNAME:EST
DTSTART:20241103T060000
END:STANDARD
BEGIN:DAYLIGHT
TZOFFSETFROM:-0500
TZOFFSETTO:-0400
TZNAME:EDT
DTSTART:20250309T070000
END:DAYLIGHT
BEGIN:STANDARD
TZOFFSETFROM:-0400
TZOFFSETTO:-0500
TZNAME:EST
DTSTART:20251102T060000
END:STANDARD
BEGIN:DAYLIGHT
TZOFFSETFROM:-0500
TZOFFSETTO:-0400
TZNAME:EDT
DTSTART:20260308T070000
END:DAYLIGHT
BEGIN:STANDARD
TZOFFSETFROM:-0400
TZOFFSETTO:-0500
TZNAME:EST
DTSTART:20261101T060000
END:STANDARD
END:VTIMEZONE
BEGIN:VEVENT
DTSTART;TZID=America/New_York:20251030T190000
DTEND;TZID=America/New_York:20251030T230000
DTSTAMP:20260420T125351
CREATED:20251016T155205Z
LAST-MODIFIED:20251016T155205Z
UID:10000550-1761850800-1761865200@averagejoescornhole.com
SUMMARY:ACO Blind Draw Doubles Lindenhurst\, NY 10/30
DESCRIPTION:ACO Blind Draw Regional. \nDoors open at 6:30 \nACO membership needed for the Blind Draw. \nMembership is needed for all other Regional and Major events. \nFree Memberships are available this season. \nACO Approved bags are required for play. \nNO OUTSIDE DRINKS. \n$30 per player
URL:https://averagejoescornhole.com/event/aco-blind-draw-doubles-lindenhurst-ny-10-30/
LOCATION:Firemans Park Pavilion\, Linderhurst\, NY\, 555 Heling Blvd\, Lindenhurst\, NY\, 11757\, United States
CATEGORIES:Regional
ORGANIZER;CN="Average Joe's Cornhole":MAILTO:eric@averagejoescornhole.com
END:VEVENT
BEGIN:VEVENT
DTSTART;TZID=America/New_York:20251030T180000
DTEND;TZID=America/New_York:20251030T190000
DTSTAMP:20260420T125351
CREATED:20251016T154824Z
LAST-MODIFIED:20251016T154824Z
UID:10000549-1761847200-1761850800@averagejoescornhole.com
SUMMARY:ACO women's singles Lindenhurst\, NY 10/30
DESCRIPTION:ACO Regional Women’s singles division. \nDoors open at 6:00. \nACO membership needed for the Women’s Singles. \nMembership is needed for all Regional and Major events. \nFree Memberships available this season. \nACO Approved bags are required for play. \nNO OUTSIDE DRINKS.
URL:https://averagejoescornhole.com/event/aco-womens-singles-lindenhurst-ny-10-30/
LOCATION:Firemans Park Pavilion\, Linderhurst\, NY\, 555 Heling Blvd\, Lindenhurst\, NY\, 11757\, United States
CATEGORIES:Regional
ORGANIZER;CN="Average Joe's Cornhole":MAILTO:eric@averagejoescornhole.com
END:VEVENT
BEGIN:VEVENT
DTSTART;TZID=America/New_York:20251030T180000
DTEND;TZID=America/New_York:20251030T190000
DTSTAMP:20260420T125351
CREATED:20251016T154517Z
LAST-MODIFIED:20251016T154517Z
UID:10000548-1761847200-1761850800@averagejoescornhole.com
SUMMARY:ACO Seniors Lindenhurst\, NY 10/30
DESCRIPTION:ACO Regional Seniors division. \nACO membership needed for the Seniors. \nDoors open at 6:00. \nMembership is needed for all Regional and Major events. \nFree Memberships available this season. \nACO Approved bags are required for play. \nNO OUTSIDE DRINKS.
URL:https://averagejoescornhole.com/event/aco-seniors-lindenhurst-ny-10-30/
LOCATION:Firemans Park Pavilion\, Linderhurst\, NY\, 555 Heling Blvd\, Lindenhurst\, NY\, 11757\, United States
CATEGORIES:Regional
ORGANIZER;CN="Average Joe's Cornhole":MAILTO:eric@averagejoescornhole.com
END:VEVENT
BEGIN:VEVENT
DTSTART;TZID=America/New_York:20251030T180000
DTEND;TZID=America/New_York:20251030T190000
DTSTAMP:20260420T125351
CREATED:20251016T154059Z
LAST-MODIFIED:20251016T154059Z
UID:10000547-1761847200-1761850800@averagejoescornhole.com
SUMMARY:ACO Juniors Lindenhurst\, NY 10/30
DESCRIPTION:ACO Regional Juniors division singles. \nNo fee for Juniors. \nDoors open at 6:00. \nACO membership needed for the Juniors. \nFree Memberships available this season. \nACO Approved bags are required for play. \nNO OUTSIDE DRINKS.
URL:https://averagejoescornhole.com/event/aco-juniors-lindenhurst-ny-10-30/
LOCATION:Firemans Park Pavilion\, Linderhurst\, NY\, 555 Heling Blvd\, Lindenhurst\, NY\, 11757\, United States
CATEGORIES:Regional
ORGANIZER;CN="Average Joe's Cornhole":MAILTO:eric@averagejoescornhole.com
END:VEVENT
BEGIN:VEVENT
DTSTART;TZID=America/New_York:20250424T181500
DTEND;TZID=America/New_York:20250424T230000
DTSTAMP:20260420T125351
CREATED:20250418T221114Z
LAST-MODIFIED:20250418T221319Z
UID:10000284-1745518500-1745535600@averagejoescornhole.com
SUMMARY:ACO Regional Blind Draw and Seniors
DESCRIPTION:ACO Blind Draw\, and Seniors Regional Tournament Thursday April 24th doors open 6:00pm for Seniors\, bags fly 6:15pm. Blind Draw will start 7:00pm. We will be holding a Blind draw double elimination tournament with a 3-game warmup. We will be running a Seniors Bracket at 6:15pm. \nNo outside Drinks\, please. \nEvents are listed on Scoreholio \nBlind Draw: https://share.scoreholio.com/VOqcoUzP7Qb \nSeniors: https://share.scoreholio.com/OEJLyxs5FSb
URL:https://averagejoescornhole.com/event/aco-regional-blind-draw-and-seniors-4/
LOCATION:Firemans Park Pavilion\, Linderhurst\, NY\, 555 Heling Blvd\, Lindenhurst\, NY\, 11757\, United States
ORGANIZER;CN="Average Joe's Cornhole":MAILTO:eric@averagejoescornhole.com
END:VEVENT
BEGIN:VEVENT
DTSTART;TZID=America/New_York:20250327T181500
DTEND;TZID=America/New_York:20250327T230000
DTSTAMP:20260420T125351
CREATED:20250307T215143Z
LAST-MODIFIED:20251004T044813Z
UID:10000283-1743099300-1743116400@averagejoescornhole.com
SUMMARY:ACO Regional Blind Draw and Seniors
DESCRIPTION:ACO Blind Draw\, and Seniors Regional Tournament Thursday March 27th doors open 6:00pm for Seniors\, bags fly 6:15pm. Blind Draw will start 7:00pm. We will be holding a Blind draw double elimination tournament with a 3-game warmup. We will be running a Seniors Bracket at 6:15pm. \nNo outside Drinks\, please. \nEvents are listed on Scoreholio \nBlind Draw: https://share.scoreholio.com/VOqcoUzP7Qb \nSeniors: https://share.scoreholio.com/esDC8bKP7Qb
URL:https://averagejoescornhole.com/event/aco-regional-blind-draw-and-seniors-5/
LOCATION:Firemans Park Pavilion\, Linderhurst\, NY\, 555 Heling Blvd\, Lindenhurst\, NY\, 11757\, United States
ORGANIZER;CN="Average Joe's Cornhole":MAILTO:eric@averagejoescornhole.com
END:VEVENT
BEGIN:VEVENT
DTSTART;TZID=America/New_York:20250313T181500
DTEND;TZID=America/New_York:20250313T230000
DTSTAMP:20260420T125351
CREATED:20250307T214825Z
LAST-MODIFIED:20251004T044815Z
UID:10000282-1741889700-1741906800@averagejoescornhole.com
SUMMARY:ACO Regional Blind Draw and Seniors
DESCRIPTION:ACO Blind Draw\, and Seniors Regional Tournament Thursday March 13th doors open 6:00pm for Seniors\, bags fly 6:15pm. Blind Draw will start 7:00pm. We will be holding a Blind draw double elimination tournament with a 3-game warmup. We will be running a Seniors Bracket at 6:15pm. \nNo outside Drinks\, please. \nEvents are listed on Scoreholio \nBlind Draw: https://share.scoreholio.com/VOqcoUzP7Qb \nSeniors: https://share.scoreholio.com/esDC8bKP7Qb
URL:https://averagejoescornhole.com/event/aco-regional-blind-draw-and-seniors-6/
LOCATION:Firemans Park Pavilion\, Linderhurst\, NY\, 555 Heling Blvd\, Lindenhurst\, NY\, 11757\, United States
ORGANIZER;CN="Average Joe's Cornhole":MAILTO:eric@averagejoescornhole.com
END:VEVENT
BEGIN:VEVENT
DTSTART;TZID=America/New_York:20250227T183000
DTEND;TZID=America/New_York:20250227T230000
DTSTAMP:20260420T125351
CREATED:20250120T050421Z
LAST-MODIFIED:20250120T050421Z
UID:10000279-1740681000-1740697200@averagejoescornhole.com
SUMMARY:ACO Regional Blind Draw and Seniors
DESCRIPTION:ACO Regional Tournament Thursday February 27th doors open 6:30pm\, bags fly 7:00pm. We will be holding a Blind draw double elimination tournament with a 3-game warmup. We will be running a Seniors Bracket at 6:30pm. \nNo outside Drinks\, please. \nEvents are listed on Scoreholio \nBlind Draw: https://share.scoreholio.com/ZGxl4AuOiQb \nSeniors: https://share.scoreholio.com/mviFyWrOiQb
URL:https://averagejoescornhole.com/event/aco-regional-blind-draw-and-seniors-3/
LOCATION:Firemans Park Pavilion\, Linderhurst\, NY\, 555 Heling Blvd\, Lindenhurst\, NY\, 11757\, United States
ORGANIZER;CN="Average Joe's Cornhole":MAILTO:eric@averagejoescornhole.com
END:VEVENT
BEGIN:VEVENT
DTSTART;TZID=America/New_York:20250213T183000
DTEND;TZID=America/New_York:20250213T230000
DTSTAMP:20260420T125351
CREATED:20250120T050107Z
LAST-MODIFIED:20250120T050107Z
UID:10000278-1739471400-1739487600@averagejoescornhole.com
SUMMARY:ACO Regional Blind Draw and Seniors
DESCRIPTION:ACO Regional Tournament Thursday February 13th doors open 6:30pm\, bags fly 7:00pm. We will be holding a Blind draw double elimination tournament with a 3-game warmup. We will be running a Seniors Bracket at 6:30pm. \nNo outside Drinks\, please. \nEvents are listed on Scoreholio \nBlind Draw: https://share.scoreholio.com/1V52yNgOiQb \nSeniors: https://share.scoreholio.com/SOQylyoOiQb
URL:https://averagejoescornhole.com/event/aco-regional-blind-draw-and-seniors-2/
LOCATION:Firemans Park Pavilion\, Linderhurst\, NY\, 555 Heling Blvd\, Lindenhurst\, NY\, 11757\, United States
ORGANIZER;CN="Average Joe's Cornhole":MAILTO:eric@averagejoescornhole.com
END:VEVENT
BEGIN:VEVENT
DTSTART;TZID=America/New_York:20250123T183000
DTEND;TZID=America/New_York:20250123T230000
DTSTAMP:20260420T125351
CREATED:20250116T052229Z
LAST-MODIFIED:20250116T052229Z
UID:10000276-1737657000-1737673200@averagejoescornhole.com
SUMMARY:ACO Regional Blind Draw and Seniors
DESCRIPTION:ACO Regional Tournament Thursday January 23rd Doors open 6:30pm\, bags fly 7:00pm. We will be holding a Blind draw double elimination tournament with a 3-game warmup. We will be running a Seniors Bracket at 6:30pm. \nNo outside Drinks\, please. \nEvents are listed on scoreholio \nBlind Draw: https://share.scoreholio.com/MmDQvcizhPb \nSeniors: https://share.scoreholio.com/YrS3L9ZsaQb
URL:https://averagejoescornhole.com/event/aco-regional-blind-draw-and-seniors/
LOCATION:Firemans Park Pavilion\, Linderhurst\, NY\, 555 Heling Blvd\, Lindenhurst\, NY\, 11757\, United States
ORGANIZER;CN="Average Joe's Cornhole":MAILTO:eric@averagejoescornhole.com
END:VEVENT
END:VCALENDAR